BEGIN:VCALENDAR
VERSION:2.0
PRODID:-//Del Mar Plaza - ECPv6.7.0//NONSGML v1.0//EN
CALSCALE:GREGORIAN
METHOD:PUBLISH
X-ORIGINAL-URL:https://delmarplaza.com
X-WR-CALDESC:Events for Del Mar Plaza
REFRESH-INTERVAL;VALUE=DURATION:PT1H
X-Robots-Tag:noindex
X-PUBLISHED-TTL:PT1H
BEGIN:VTIMEZONE
TZID:America/Los_Angeles
BEGIN:DAYLIGHT
TZOFFSETFROM:-0800
TZOFFSETTO:-0700
TZNAME:PDT
DTSTART:20260308T100000
END:DAYLIGHT
BEGIN:STANDARD
TZOFFSETFROM:-0700
TZOFFSETTO:-0800
TZNAME:PST
DTSTART:20261101T090000
END:STANDARD
END:VTIMEZONE
BEGIN:VEVENT
DTSTART;TZID=America/Los_Angeles:20260507T150000
DTEND;TZID=America/Los_Angeles:20260507T170000
DTSTAMP:20260420T035144
CREATED:20250407T190008Z
LAST-MODIFIED:20260114T214344Z
UID:10016941-1778166000-1778173200@delmarplaza.com
SUMMARY:Happy Hour @ Tamarindo Del Mar
DESCRIPTION:Happy Hour\, Happier Than Ever!  \nJoin us Monday–Friday from 3–5PM for our expanded Happy Hour menu — now with even more bites and sips to love. \n \nJoin Tamarindo Del Mar for happy hour specials!  \nSpecials include: \n*Double margs for the price of a single*\nMake your marg a caddy! +$3 \nDouble Casa Margarita $11.50\nReal Del Valle Blanco\, Lime Juice\, Agave Nectar \nDouble All The Loves $14.50\nRosemary-Mango-Habanero infused Real Del Valle Blanco\, Lime Juice\, Hibiscus \nDouble Spicy Margarita $13.50\nTanteo Blanco Jalapeno\, Lime Juice and Agave Nectar \n$2 Off Select Wines:\nTooth and Nail\, Cabernet Sauvignon Carruth Cellars\, Sauvignon Blanc \nMini Nachos $9\nCorn Chips\, Black Bean\, Jack Cheese\, Pico\, Sour Cream\, Serrano\, Cotija \nCremini Spinach Empanadas $8\nMushroom\, Baby Spinach\, Garlic\, Jack Cheese\, Pastry Dough\, White Lime Sauce\, Cilantro \nSpare Ribs Picante $15\nPork Ribs\, Smoked Jalapeno\, Honey\, Agave\, Cilantro\, Pepita \nChipotle Honey Chicken Lollipops $12\nDrumettes\, Chipotle\, Honey\, Soy\, Cilantro\, Sour Cream \nSouthwest Tam Bowl $10\nWhite Quinoa\, Avocado\, Black Bean\, Corn\, Onion\, Bell Pepper\, Queso Panela\, Cilantro\, Tomato\, Dijon Agave Vinaigrette
URL:https://delmarplaza.com/event/happy-hour-tamarindo-del-mar-2/2026-05-07/
LOCATION:Tamarindo Del Mar\, 1555 Camino Del Mar Ste. 116-117\, Del Mar\, CA\, 92014\, United States
CATEGORIES:Dining Experience,Happy Hour,Weekly Events
ATTACH;FMTTYPE=image/jpeg:https://delmarplaza.com/wp-content/uploads/2023/01/322300109_683847789896186_6485483313608084246_n.jpg
END:VEVENT
BEGIN:VEVENT
DTSTART;TZID=America/Los_Angeles:20260507T150000
DTEND;TZID=America/Los_Angeles:20260507T180000
DTSTAMP:20260420T035144
CREATED:20230302T023914Z
LAST-MODIFIED:20260114T214114Z
UID:10014934-1778166000-1778176800@delmarplaza.com
SUMMARY:Happy Hour @ Il Fornaio\, Del Mar
DESCRIPTION:HAPPY HOUR at II Fornaio\, Del Mar\nMONDAY – FRIDAY: 3 – 6PM\nCheck out the website to see featured Happy Hour items: linked here \n  \n 
URL:https://delmarplaza.com/event/happy-hour-il-fornaio-del-mar/2026-05-07/
LOCATION:Il Fornaio – Del Mar\, 1555 Camino Del Mar #301\, Del Mar\, CA\, 92014\, United States
CATEGORIES:Happy Hour
ATTACH;FMTTYPE=image/png:https://delmarplaza.com/wp-content/uploads/2023/03/IlFornaio.png
END:VEVENT
BEGIN:VEVENT
DTSTART;TZID=America/Los_Angeles:20260507T150000
DTEND;TZID=America/Los_Angeles:20260507T180000
DTSTAMP:20260420T035144
CREATED:20251210T235558Z
LAST-MODIFIED:20260114T214133Z
UID:10020982-1778166000-1778176800@delmarplaza.com
SUMMARY:Happy Hour @ Enoteca Del Fornaio\, Del Mar
DESCRIPTION:HAPPY HOUR at Enoteca Del Fornaio\nMONDAY – FRIDAY: 3 – 6PM\nCheck out the website to see featured Happy Hour items: linked here \n  \n 
URL:https://delmarplaza.com/event/happy-hour-il-fornaio-del-mar-copy/2026-05-07/
LOCATION:Enoteca Del Fornaio – Del Mar\, 1555 Camino Del Mar #301\, Del Mar\, CA\, 92014\, United States
CATEGORIES:Happy Hour
ATTACH;FMTTYPE=image/jpeg:https://delmarplaza.com/wp-content/uploads/2025/12/del-mar-enoteca-scaled.jpg
END:VEVENT
BEGIN:VEVENT
DTSTART;TZID=America/Los_Angeles:20260507T160000
DTEND;TZID=America/Los_Angeles:20260507T180000
DTSTAMP:20260420T035144
CREATED:20230302T024319Z
LAST-MODIFIED:20260114T214246Z
UID:10018416-1778169600-1778176800@delmarplaza.com
SUMMARY:Happy Hour @ Monarch Ocean Pub
DESCRIPTION:HAPPY HOUR at Monarch Ocean Pub\, Del Mar\nMONDAY – FRIDAY: 4 – 6PM\nCheck out the website to see featured Happy Hour items: linked here
URL:https://delmarplaza.com/event/happy-hour-monarch-ocean-pub/2026-05-07/
LOCATION:Monarch Ocean Pub\, 1555 Camino Del Mar Suite 322\, Del Mar\, CA\, 92014\, United States
CATEGORIES:Happy Hour
ATTACH;FMTTYPE=image/jpeg:https://delmarplaza.com/wp-content/uploads/2023/03/MonarchOceanPub.jpg
END:VEVENT
BEGIN:VEVENT
DTSTART;TZID=America/Los_Angeles:20260507T170000
DTEND;TZID=America/Los_Angeles:20260507T190000
DTSTAMP:20260420T035144
CREATED:20260413T165122Z
LAST-MODIFIED:20260413T165314Z
UID:10022548-1778173200-1778180400@delmarplaza.com
SUMMARY:Seaside Sessions - Salty Papa
DESCRIPTION:Kick back on our Ocean View Deck and soak in the sounds of Salty Papa — blending Southern California and Soul music — from 5–7 PM. Whether you’re dining at one of our restaurants\, browsing the shops\, or simply taking in the Pacific views\, it’s the perfect way to wind down your week at Del Mar Plaza.
URL:https://delmarplaza.com/event/salty-papa/
LOCATION:Ocean View Deck
CATEGORIES:Music
ATTACH;FMTTYPE=image/jpeg:https://delmarplaza.com/wp-content/uploads/2026/04/Salty-Papa.jpeg
END:VEVENT
BEGIN:VEVENT
DTSTART;TZID=America/Los_Angeles:20260507T170000
DTEND;TZID=America/Los_Angeles:20260507T190000
DTSTAMP:20260420T035144
CREATED:20260413T165408Z
LAST-MODIFIED:20260413T165910Z
UID:10022552-1778173200-1778180400@delmarplaza.com
SUMMARY:Seaside Sessions - Off The Record
DESCRIPTION:Kick back on our Ocean View Deck and soak in the sounds of Off The Record — playing classic rock music — from 5–7 PM. Whether you’re dining at one of our restaurants\, browsing the shops\, or simply taking in the Pacific views\, it’s the perfect way to wind down your week at Del Mar Plaza.
URL:https://delmarplaza.com/event/off-the-record/
LOCATION:Ocean View Deck
CATEGORIES:Music
ATTACH;FMTTYPE=image/jpeg:https://delmarplaza.com/wp-content/uploads/2026/04/Off-the-Record-band.jpg
END:VEVENT
BEGIN:VEVENT
DTSTART;TZID=America/Los_Angeles:20260507T180000
DTEND;TZID=America/Los_Angeles:20260507T210000
DTSTAMP:20260420T035144
CREATED:20260331T221642Z
LAST-MODIFIED:20260331T221739Z
UID:10022515-1778176800-1778187600@delmarplaza.com
SUMMARY:Private Event - Deck
DESCRIPTION:
URL:https://delmarplaza.com/event/private-event-deck-5-07-26/
LOCATION:Del Mar Plaza\, 1555 Camino Del Mar\, Del Mar\, CA\, 92014\, United States
END:VEVENT
BEGIN:VEVENT
DTSTART;TZID=America/Los_Angeles:20260508T150000
DTEND;TZID=America/Los_Angeles:20260508T170000
DTSTAMP:20260420T035144
CREATED:20250407T190008Z
LAST-MODIFIED:20260114T214344Z
UID:10016942-1778252400-1778259600@delmarplaza.com
SUMMARY:Happy Hour @ Tamarindo Del Mar
DESCRIPTION:Happy Hour\, Happier Than Ever!  \nJoin us Monday–Friday from 3–5PM for our expanded Happy Hour menu — now with even more bites and sips to love. \n \nJoin Tamarindo Del Mar for happy hour specials!  \nSpecials include: \n*Double margs for the price of a single*\nMake your marg a caddy! +$3 \nDouble Casa Margarita $11.50\nReal Del Valle Blanco\, Lime Juice\, Agave Nectar \nDouble All The Loves $14.50\nRosemary-Mango-Habanero infused Real Del Valle Blanco\, Lime Juice\, Hibiscus \nDouble Spicy Margarita $13.50\nTanteo Blanco Jalapeno\, Lime Juice and Agave Nectar \n$2 Off Select Wines:\nTooth and Nail\, Cabernet Sauvignon Carruth Cellars\, Sauvignon Blanc \nMini Nachos $9\nCorn Chips\, Black Bean\, Jack Cheese\, Pico\, Sour Cream\, Serrano\, Cotija \nCremini Spinach Empanadas $8\nMushroom\, Baby Spinach\, Garlic\, Jack Cheese\, Pastry Dough\, White Lime Sauce\, Cilantro \nSpare Ribs Picante $15\nPork Ribs\, Smoked Jalapeno\, Honey\, Agave\, Cilantro\, Pepita \nChipotle Honey Chicken Lollipops $12\nDrumettes\, Chipotle\, Honey\, Soy\, Cilantro\, Sour Cream \nSouthwest Tam Bowl $10\nWhite Quinoa\, Avocado\, Black Bean\, Corn\, Onion\, Bell Pepper\, Queso Panela\, Cilantro\, Tomato\, Dijon Agave Vinaigrette
URL:https://delmarplaza.com/event/happy-hour-tamarindo-del-mar-2/2026-05-08/
LOCATION:Tamarindo Del Mar\, 1555 Camino Del Mar Ste. 116-117\, Del Mar\, CA\, 92014\, United States
CATEGORIES:Dining Experience,Happy Hour,Weekly Events
ATTACH;FMTTYPE=image/jpeg:https://delmarplaza.com/wp-content/uploads/2023/01/322300109_683847789896186_6485483313608084246_n.jpg
END:VEVENT
BEGIN:VEVENT
DTSTART;TZID=America/Los_Angeles:20260508T150000
DTEND;TZID=America/Los_Angeles:20260508T180000
DTSTAMP:20260420T035144
CREATED:20230302T023914Z
LAST-MODIFIED:20260114T214114Z
UID:10014935-1778252400-1778263200@delmarplaza.com
SUMMARY:Happy Hour @ Il Fornaio\, Del Mar
DESCRIPTION:HAPPY HOUR at II Fornaio\, Del Mar\nMONDAY – FRIDAY: 3 – 6PM\nCheck out the website to see featured Happy Hour items: linked here \n  \n 
URL:https://delmarplaza.com/event/happy-hour-il-fornaio-del-mar/2026-05-08/
LOCATION:Il Fornaio – Del Mar\, 1555 Camino Del Mar #301\, Del Mar\, CA\, 92014\, United States
CATEGORIES:Happy Hour
ATTACH;FMTTYPE=image/png:https://delmarplaza.com/wp-content/uploads/2023/03/IlFornaio.png
END:VEVENT
BEGIN:VEVENT
DTSTART;TZID=America/Los_Angeles:20260508T150000
DTEND;TZID=America/Los_Angeles:20260508T180000
DTSTAMP:20260420T035144
CREATED:20251210T235558Z
LAST-MODIFIED:20260114T214133Z
UID:10020983-1778252400-1778263200@delmarplaza.com
SUMMARY:Happy Hour @ Enoteca Del Fornaio\, Del Mar
DESCRIPTION:HAPPY HOUR at Enoteca Del Fornaio\nMONDAY – FRIDAY: 3 – 6PM\nCheck out the website to see featured Happy Hour items: linked here \n  \n 
URL:https://delmarplaza.com/event/happy-hour-il-fornaio-del-mar-copy/2026-05-08/
LOCATION:Enoteca Del Fornaio – Del Mar\, 1555 Camino Del Mar #301\, Del Mar\, CA\, 92014\, United States
CATEGORIES:Happy Hour
ATTACH;FMTTYPE=image/jpeg:https://delmarplaza.com/wp-content/uploads/2025/12/del-mar-enoteca-scaled.jpg
END:VEVENT
BEGIN:VEVENT
DTSTART;TZID=America/Los_Angeles:20260508T160000
DTEND;TZID=America/Los_Angeles:20260508T180000
DTSTAMP:20260420T035144
CREATED:20230302T024319Z
LAST-MODIFIED:20260114T214246Z
UID:10018417-1778256000-1778263200@delmarplaza.com
SUMMARY:Happy Hour @ Monarch Ocean Pub
DESCRIPTION:HAPPY HOUR at Monarch Ocean Pub\, Del Mar\nMONDAY – FRIDAY: 4 – 6PM\nCheck out the website to see featured Happy Hour items: linked here
URL:https://delmarplaza.com/event/happy-hour-monarch-ocean-pub/2026-05-08/
LOCATION:Monarch Ocean Pub\, 1555 Camino Del Mar Suite 322\, Del Mar\, CA\, 92014\, United States
CATEGORIES:Happy Hour
ATTACH;FMTTYPE=image/jpeg:https://delmarplaza.com/wp-content/uploads/2023/03/MonarchOceanPub.jpg
END:VEVENT
BEGIN:VEVENT
DTSTART;TZID=America/Los_Angeles:20260508T160000
DTEND;TZID=America/Los_Angeles:20260508T190000
DTSTAMP:20260420T035144
CREATED:20260331T221501Z
LAST-MODIFIED:20260331T221625Z
UID:10022514-1778256000-1778266800@delmarplaza.com
SUMMARY:Live Music - Monarch Ocean Pub - Christian Taylor
DESCRIPTION:Kick back at Monarch Ocean Pub and soak in the sounds of Christian Taylor on 5/08 \nCan’t make it? Enjoy live music at Monarch Ocean Pub every Wednesday\, Friday and Sunday from 4:00 to 7:00 PM. Don’t miss the perfect blend of great tunes and ocean views.
URL:https://delmarplaza.com/event/live-music-monarch-ocean-pub-5-08-26/
LOCATION:Monarch Ocean Pub\, 1555 Camino Del Mar Suite 322\, Del Mar\, CA\, 92014\, United States
CATEGORIES:Music
END:VEVENT
BEGIN:VEVENT
DTSTART;TZID=America/Los_Angeles:20260509T170000
DTEND;TZID=America/Los_Angeles:20260509T190000
DTSTAMP:20260420T035144
CREATED:20260413T165341Z
LAST-MODIFIED:20260413T165543Z
UID:10022549-1778346000-1778353200@delmarplaza.com
SUMMARY:Seaside Sessions - Mango Bay Band
DESCRIPTION:Kick back on our Ocean View Deck and soak in the sounds of Mango Bay Band — blending Classic rock music — from 5–7 PM. Whether you’re dining at one of our restaurants\, browsing the shops\, or simply taking in the Pacific views\, it’s the perfect way to wind down your week at Del Mar Plaza.
URL:https://delmarplaza.com/event/mango-bay-band/
LOCATION:Ocean View Deck
CATEGORIES:Music
ATTACH;FMTTYPE=image/jpeg:https://delmarplaza.com/wp-content/uploads/2026/04/MangoBay-at-Del-Mar-Plaza-2020.jpg
END:VEVENT
BEGIN:VEVENT
DTSTART;TZID=America/Los_Angeles:20260510T160000
DTEND;TZID=America/Los_Angeles:20260510T190000
DTSTAMP:20260420T035144
CREATED:20260331T221759Z
LAST-MODIFIED:20260331T221856Z
UID:10022516-1778428800-1778439600@delmarplaza.com
SUMMARY:Live Music - Monarch Ocean Pub - Lee Melton
DESCRIPTION:Kick back at Monarch Ocean Pub and soak in the sounds of Lee Melton on 5/10 \nCan’t make it? Enjoy live music at Monarch Ocean Pub every Wednesday\, Friday and Sunday from 4:00 to 7:00 PM. Don’t miss the perfect blend of great tunes and ocean views.
URL:https://delmarplaza.com/event/live-music-monarch-ocean-pub-5-10-26/
LOCATION:Monarch Ocean Pub\, 1555 Camino Del Mar Suite 322\, Del Mar\, CA\, 92014\, United States
CATEGORIES:Music
END:VEVENT
BEGIN:VEVENT
DTSTART;TZID=America/Los_Angeles:20260511T150000
DTEND;TZID=America/Los_Angeles:20260511T170000
DTSTAMP:20260420T035144
CREATED:20250407T190008Z
LAST-MODIFIED:20260114T214344Z
UID:10016943-1778511600-1778518800@delmarplaza.com
SUMMARY:Happy Hour @ Tamarindo Del Mar
DESCRIPTION:Happy Hour\, Happier Than Ever!  \nJoin us Monday–Friday from 3–5PM for our expanded Happy Hour menu — now with even more bites and sips to love. \n \nJoin Tamarindo Del Mar for happy hour specials!  \nSpecials include: \n*Double margs for the price of a single*\nMake your marg a caddy! +$3 \nDouble Casa Margarita $11.50\nReal Del Valle Blanco\, Lime Juice\, Agave Nectar \nDouble All The Loves $14.50\nRosemary-Mango-Habanero infused Real Del Valle Blanco\, Lime Juice\, Hibiscus \nDouble Spicy Margarita $13.50\nTanteo Blanco Jalapeno\, Lime Juice and Agave Nectar \n$2 Off Select Wines:\nTooth and Nail\, Cabernet Sauvignon Carruth Cellars\, Sauvignon Blanc \nMini Nachos $9\nCorn Chips\, Black Bean\, Jack Cheese\, Pico\, Sour Cream\, Serrano\, Cotija \nCremini Spinach Empanadas $8\nMushroom\, Baby Spinach\, Garlic\, Jack Cheese\, Pastry Dough\, White Lime Sauce\, Cilantro \nSpare Ribs Picante $15\nPork Ribs\, Smoked Jalapeno\, Honey\, Agave\, Cilantro\, Pepita \nChipotle Honey Chicken Lollipops $12\nDrumettes\, Chipotle\, Honey\, Soy\, Cilantro\, Sour Cream \nSouthwest Tam Bowl $10\nWhite Quinoa\, Avocado\, Black Bean\, Corn\, Onion\, Bell Pepper\, Queso Panela\, Cilantro\, Tomato\, Dijon Agave Vinaigrette
URL:https://delmarplaza.com/event/happy-hour-tamarindo-del-mar-2/2026-05-11/
LOCATION:Tamarindo Del Mar\, 1555 Camino Del Mar Ste. 116-117\, Del Mar\, CA\, 92014\, United States
CATEGORIES:Dining Experience,Happy Hour,Weekly Events
ATTACH;FMTTYPE=image/jpeg:https://delmarplaza.com/wp-content/uploads/2023/01/322300109_683847789896186_6485483313608084246_n.jpg
END:VEVENT
BEGIN:VEVENT
DTSTART;TZID=America/Los_Angeles:20260511T150000
DTEND;TZID=America/Los_Angeles:20260511T180000
DTSTAMP:20260420T035144
CREATED:20230302T023914Z
LAST-MODIFIED:20260114T214114Z
UID:10014936-1778511600-1778522400@delmarplaza.com
SUMMARY:Happy Hour @ Il Fornaio\, Del Mar
DESCRIPTION:HAPPY HOUR at II Fornaio\, Del Mar\nMONDAY – FRIDAY: 3 – 6PM\nCheck out the website to see featured Happy Hour items: linked here \n  \n 
URL:https://delmarplaza.com/event/happy-hour-il-fornaio-del-mar/2026-05-11/
LOCATION:Il Fornaio – Del Mar\, 1555 Camino Del Mar #301\, Del Mar\, CA\, 92014\, United States
CATEGORIES:Happy Hour
ATTACH;FMTTYPE=image/png:https://delmarplaza.com/wp-content/uploads/2023/03/IlFornaio.png
END:VEVENT
BEGIN:VEVENT
DTSTART;TZID=America/Los_Angeles:20260511T150000
DTEND;TZID=America/Los_Angeles:20260511T180000
DTSTAMP:20260420T035144
CREATED:20251210T235558Z
LAST-MODIFIED:20260114T214133Z
UID:10020984-1778511600-1778522400@delmarplaza.com
SUMMARY:Happy Hour @ Enoteca Del Fornaio\, Del Mar
DESCRIPTION:HAPPY HOUR at Enoteca Del Fornaio\nMONDAY – FRIDAY: 3 – 6PM\nCheck out the website to see featured Happy Hour items: linked here \n  \n 
URL:https://delmarplaza.com/event/happy-hour-il-fornaio-del-mar-copy/2026-05-11/
LOCATION:Enoteca Del Fornaio – Del Mar\, 1555 Camino Del Mar #301\, Del Mar\, CA\, 92014\, United States
CATEGORIES:Happy Hour
ATTACH;FMTTYPE=image/jpeg:https://delmarplaza.com/wp-content/uploads/2025/12/del-mar-enoteca-scaled.jpg
END:VEVENT
BEGIN:VEVENT
DTSTART;TZID=America/Los_Angeles:20260511T160000
DTEND;TZID=America/Los_Angeles:20260511T180000
DTSTAMP:20260420T035144
CREATED:20230302T024319Z
LAST-MODIFIED:20260114T214246Z
UID:10018418-1778515200-1778522400@delmarplaza.com
SUMMARY:Happy Hour @ Monarch Ocean Pub
DESCRIPTION:HAPPY HOUR at Monarch Ocean Pub\, Del Mar\nMONDAY – FRIDAY: 4 – 6PM\nCheck out the website to see featured Happy Hour items: linked here
URL:https://delmarplaza.com/event/happy-hour-monarch-ocean-pub/2026-05-11/
LOCATION:Monarch Ocean Pub\, 1555 Camino Del Mar Suite 322\, Del Mar\, CA\, 92014\, United States
CATEGORIES:Happy Hour
ATTACH;FMTTYPE=image/jpeg:https://delmarplaza.com/wp-content/uploads/2023/03/MonarchOceanPub.jpg
END:VEVENT
BEGIN:VEVENT
DTSTART;TZID=America/Los_Angeles:20260512T150000
DTEND;TZID=America/Los_Angeles:20260512T170000
DTSTAMP:20260420T035144
CREATED:20250407T190008Z
LAST-MODIFIED:20260114T214344Z
UID:10016944-1778598000-1778605200@delmarplaza.com
SUMMARY:Happy Hour @ Tamarindo Del Mar
DESCRIPTION:Happy Hour\, Happier Than Ever!  \nJoin us Monday–Friday from 3–5PM for our expanded Happy Hour menu — now with even more bites and sips to love. \n \nJoin Tamarindo Del Mar for happy hour specials!  \nSpecials include: \n*Double margs for the price of a single*\nMake your marg a caddy! +$3 \nDouble Casa Margarita $11.50\nReal Del Valle Blanco\, Lime Juice\, Agave Nectar \nDouble All The Loves $14.50\nRosemary-Mango-Habanero infused Real Del Valle Blanco\, Lime Juice\, Hibiscus \nDouble Spicy Margarita $13.50\nTanteo Blanco Jalapeno\, Lime Juice and Agave Nectar \n$2 Off Select Wines:\nTooth and Nail\, Cabernet Sauvignon Carruth Cellars\, Sauvignon Blanc \nMini Nachos $9\nCorn Chips\, Black Bean\, Jack Cheese\, Pico\, Sour Cream\, Serrano\, Cotija \nCremini Spinach Empanadas $8\nMushroom\, Baby Spinach\, Garlic\, Jack Cheese\, Pastry Dough\, White Lime Sauce\, Cilantro \nSpare Ribs Picante $15\nPork Ribs\, Smoked Jalapeno\, Honey\, Agave\, Cilantro\, Pepita \nChipotle Honey Chicken Lollipops $12\nDrumettes\, Chipotle\, Honey\, Soy\, Cilantro\, Sour Cream \nSouthwest Tam Bowl $10\nWhite Quinoa\, Avocado\, Black Bean\, Corn\, Onion\, Bell Pepper\, Queso Panela\, Cilantro\, Tomato\, Dijon Agave Vinaigrette
URL:https://delmarplaza.com/event/happy-hour-tamarindo-del-mar-2/2026-05-12/
LOCATION:Tamarindo Del Mar\, 1555 Camino Del Mar Ste. 116-117\, Del Mar\, CA\, 92014\, United States
CATEGORIES:Dining Experience,Happy Hour,Weekly Events
ATTACH;FMTTYPE=image/jpeg:https://delmarplaza.com/wp-content/uploads/2023/01/322300109_683847789896186_6485483313608084246_n.jpg
END:VEVENT
BEGIN:VEVENT
DTSTART;TZID=America/Los_Angeles:20260512T150000
DTEND;TZID=America/Los_Angeles:20260512T180000
DTSTAMP:20260420T035144
CREATED:20230302T023914Z
LAST-MODIFIED:20260114T214114Z
UID:10014937-1778598000-1778608800@delmarplaza.com
SUMMARY:Happy Hour @ Il Fornaio\, Del Mar
DESCRIPTION:HAPPY HOUR at II Fornaio\, Del Mar\nMONDAY – FRIDAY: 3 – 6PM\nCheck out the website to see featured Happy Hour items: linked here \n  \n 
URL:https://delmarplaza.com/event/happy-hour-il-fornaio-del-mar/2026-05-12/
LOCATION:Il Fornaio – Del Mar\, 1555 Camino Del Mar #301\, Del Mar\, CA\, 92014\, United States
CATEGORIES:Happy Hour
ATTACH;FMTTYPE=image/png:https://delmarplaza.com/wp-content/uploads/2023/03/IlFornaio.png
END:VEVENT
BEGIN:VEVENT
DTSTART;TZID=America/Los_Angeles:20260512T150000
DTEND;TZID=America/Los_Angeles:20260512T180000
DTSTAMP:20260420T035144
CREATED:20251210T235558Z
LAST-MODIFIED:20260114T214133Z
UID:10020985-1778598000-1778608800@delmarplaza.com
SUMMARY:Happy Hour @ Enoteca Del Fornaio\, Del Mar
DESCRIPTION:HAPPY HOUR at Enoteca Del Fornaio\nMONDAY – FRIDAY: 3 – 6PM\nCheck out the website to see featured Happy Hour items: linked here \n  \n 
URL:https://delmarplaza.com/event/happy-hour-il-fornaio-del-mar-copy/2026-05-12/
LOCATION:Enoteca Del Fornaio – Del Mar\, 1555 Camino Del Mar #301\, Del Mar\, CA\, 92014\, United States
CATEGORIES:Happy Hour
ATTACH;FMTTYPE=image/jpeg:https://delmarplaza.com/wp-content/uploads/2025/12/del-mar-enoteca-scaled.jpg
END:VEVENT
BEGIN:VEVENT
DTSTART;TZID=America/Los_Angeles:20260512T160000
DTEND;TZID=America/Los_Angeles:20260512T180000
DTSTAMP:20260420T035144
CREATED:20230302T024319Z
LAST-MODIFIED:20260114T214246Z
UID:10018419-1778601600-1778608800@delmarplaza.com
SUMMARY:Happy Hour @ Monarch Ocean Pub
DESCRIPTION:HAPPY HOUR at Monarch Ocean Pub\, Del Mar\nMONDAY – FRIDAY: 4 – 6PM\nCheck out the website to see featured Happy Hour items: linked here
URL:https://delmarplaza.com/event/happy-hour-monarch-ocean-pub/2026-05-12/
LOCATION:Monarch Ocean Pub\, 1555 Camino Del Mar Suite 322\, Del Mar\, CA\, 92014\, United States
CATEGORIES:Happy Hour
ATTACH;FMTTYPE=image/jpeg:https://delmarplaza.com/wp-content/uploads/2023/03/MonarchOceanPub.jpg
END:VEVENT
BEGIN:VEVENT
DTSTART;TZID=America/Los_Angeles:20260513T150000
DTEND;TZID=America/Los_Angeles:20260513T170000
DTSTAMP:20260420T035144
CREATED:20250407T190008Z
LAST-MODIFIED:20260114T214344Z
UID:10016945-1778684400-1778691600@delmarplaza.com
SUMMARY:Happy Hour @ Tamarindo Del Mar
DESCRIPTION:Happy Hour\, Happier Than Ever!  \nJoin us Monday–Friday from 3–5PM for our expanded Happy Hour menu — now with even more bites and sips to love. \n \nJoin Tamarindo Del Mar for happy hour specials!  \nSpecials include: \n*Double margs for the price of a single*\nMake your marg a caddy! +$3 \nDouble Casa Margarita $11.50\nReal Del Valle Blanco\, Lime Juice\, Agave Nectar \nDouble All The Loves $14.50\nRosemary-Mango-Habanero infused Real Del Valle Blanco\, Lime Juice\, Hibiscus \nDouble Spicy Margarita $13.50\nTanteo Blanco Jalapeno\, Lime Juice and Agave Nectar \n$2 Off Select Wines:\nTooth and Nail\, Cabernet Sauvignon Carruth Cellars\, Sauvignon Blanc \nMini Nachos $9\nCorn Chips\, Black Bean\, Jack Cheese\, Pico\, Sour Cream\, Serrano\, Cotija \nCremini Spinach Empanadas $8\nMushroom\, Baby Spinach\, Garlic\, Jack Cheese\, Pastry Dough\, White Lime Sauce\, Cilantro \nSpare Ribs Picante $15\nPork Ribs\, Smoked Jalapeno\, Honey\, Agave\, Cilantro\, Pepita \nChipotle Honey Chicken Lollipops $12\nDrumettes\, Chipotle\, Honey\, Soy\, Cilantro\, Sour Cream \nSouthwest Tam Bowl $10\nWhite Quinoa\, Avocado\, Black Bean\, Corn\, Onion\, Bell Pepper\, Queso Panela\, Cilantro\, Tomato\, Dijon Agave Vinaigrette
URL:https://delmarplaza.com/event/happy-hour-tamarindo-del-mar-2/2026-05-13/
LOCATION:Tamarindo Del Mar\, 1555 Camino Del Mar Ste. 116-117\, Del Mar\, CA\, 92014\, United States
CATEGORIES:Dining Experience,Happy Hour,Weekly Events
ATTACH;FMTTYPE=image/jpeg:https://delmarplaza.com/wp-content/uploads/2023/01/322300109_683847789896186_6485483313608084246_n.jpg
END:VEVENT
BEGIN:VEVENT
DTSTART;TZID=America/Los_Angeles:20260513T150000
DTEND;TZID=America/Los_Angeles:20260513T180000
DTSTAMP:20260420T035144
CREATED:20230302T023914Z
LAST-MODIFIED:20260114T214114Z
UID:10014938-1778684400-1778695200@delmarplaza.com
SUMMARY:Happy Hour @ Il Fornaio\, Del Mar
DESCRIPTION:HAPPY HOUR at II Fornaio\, Del Mar\nMONDAY – FRIDAY: 3 – 6PM\nCheck out the website to see featured Happy Hour items: linked here \n  \n 
URL:https://delmarplaza.com/event/happy-hour-il-fornaio-del-mar/2026-05-13/
LOCATION:Il Fornaio – Del Mar\, 1555 Camino Del Mar #301\, Del Mar\, CA\, 92014\, United States
CATEGORIES:Happy Hour
ATTACH;FMTTYPE=image/png:https://delmarplaza.com/wp-content/uploads/2023/03/IlFornaio.png
END:VEVENT
BEGIN:VEVENT
DTSTART;TZID=America/Los_Angeles:20260513T150000
DTEND;TZID=America/Los_Angeles:20260513T180000
DTSTAMP:20260420T035144
CREATED:20251210T235558Z
LAST-MODIFIED:20260114T214133Z
UID:10020986-1778684400-1778695200@delmarplaza.com
SUMMARY:Happy Hour @ Enoteca Del Fornaio\, Del Mar
DESCRIPTION:HAPPY HOUR at Enoteca Del Fornaio\nMONDAY – FRIDAY: 3 – 6PM\nCheck out the website to see featured Happy Hour items: linked here \n  \n 
URL:https://delmarplaza.com/event/happy-hour-il-fornaio-del-mar-copy/2026-05-13/
LOCATION:Enoteca Del Fornaio – Del Mar\, 1555 Camino Del Mar #301\, Del Mar\, CA\, 92014\, United States
CATEGORIES:Happy Hour
ATTACH;FMTTYPE=image/jpeg:https://delmarplaza.com/wp-content/uploads/2025/12/del-mar-enoteca-scaled.jpg
END:VEVENT
BEGIN:VEVENT
DTSTART;TZID=America/Los_Angeles:20260513T160000
DTEND;TZID=America/Los_Angeles:20260513T180000
DTSTAMP:20260420T035144
CREATED:20230302T024319Z
LAST-MODIFIED:20260114T214246Z
UID:10018420-1778688000-1778695200@delmarplaza.com
SUMMARY:Happy Hour @ Monarch Ocean Pub
DESCRIPTION:HAPPY HOUR at Monarch Ocean Pub\, Del Mar\nMONDAY – FRIDAY: 4 – 6PM\nCheck out the website to see featured Happy Hour items: linked here
URL:https://delmarplaza.com/event/happy-hour-monarch-ocean-pub/2026-05-13/
LOCATION:Monarch Ocean Pub\, 1555 Camino Del Mar Suite 322\, Del Mar\, CA\, 92014\, United States
CATEGORIES:Happy Hour
ATTACH;FMTTYPE=image/jpeg:https://delmarplaza.com/wp-content/uploads/2023/03/MonarchOceanPub.jpg
END:VEVENT
BEGIN:VEVENT
DTSTART;TZID=America/Los_Angeles:20260513T160000
DTEND;TZID=America/Los_Angeles:20260513T190000
DTSTAMP:20260420T035144
CREATED:20260331T221808Z
LAST-MODIFIED:20260331T221922Z
UID:10022517-1778688000-1778698800@delmarplaza.com
SUMMARY:Live Music - Monarch Ocean Pub - Ben Benavente
DESCRIPTION:Kick back at Monarch Ocean Pub and soak in the sounds of Ben Benavente on 5/13 \nCan’t make it? Enjoy live music at Monarch Ocean Pub every Wednesday\, Friday and Sunday from 4:00 to 7:00 PM. Don’t miss the perfect blend of great tunes and ocean views.
URL:https://delmarplaza.com/event/live-music-monarch-ocean-pub-5-13-26/
LOCATION:Monarch Ocean Pub\, 1555 Camino Del Mar Suite 322\, Del Mar\, CA\, 92014\, United States
CATEGORIES:Music
END:VEVENT
BEGIN:VEVENT
DTSTART;TZID=America/Los_Angeles:20260514T150000
DTEND;TZID=America/Los_Angeles:20260514T170000
DTSTAMP:20260420T035144
CREATED:20250407T190008Z
LAST-MODIFIED:20260114T214344Z
UID:10016946-1778770800-1778778000@delmarplaza.com
SUMMARY:Happy Hour @ Tamarindo Del Mar
DESCRIPTION:Happy Hour\, Happier Than Ever!  \nJoin us Monday–Friday from 3–5PM for our expanded Happy Hour menu — now with even more bites and sips to love. \n \nJoin Tamarindo Del Mar for happy hour specials!  \nSpecials include: \n*Double margs for the price of a single*\nMake your marg a caddy! +$3 \nDouble Casa Margarita $11.50\nReal Del Valle Blanco\, Lime Juice\, Agave Nectar \nDouble All The Loves $14.50\nRosemary-Mango-Habanero infused Real Del Valle Blanco\, Lime Juice\, Hibiscus \nDouble Spicy Margarita $13.50\nTanteo Blanco Jalapeno\, Lime Juice and Agave Nectar \n$2 Off Select Wines:\nTooth and Nail\, Cabernet Sauvignon Carruth Cellars\, Sauvignon Blanc \nMini Nachos $9\nCorn Chips\, Black Bean\, Jack Cheese\, Pico\, Sour Cream\, Serrano\, Cotija \nCremini Spinach Empanadas $8\nMushroom\, Baby Spinach\, Garlic\, Jack Cheese\, Pastry Dough\, White Lime Sauce\, Cilantro \nSpare Ribs Picante $15\nPork Ribs\, Smoked Jalapeno\, Honey\, Agave\, Cilantro\, Pepita \nChipotle Honey Chicken Lollipops $12\nDrumettes\, Chipotle\, Honey\, Soy\, Cilantro\, Sour Cream \nSouthwest Tam Bowl $10\nWhite Quinoa\, Avocado\, Black Bean\, Corn\, Onion\, Bell Pepper\, Queso Panela\, Cilantro\, Tomato\, Dijon Agave Vinaigrette
URL:https://delmarplaza.com/event/happy-hour-tamarindo-del-mar-2/2026-05-14/
LOCATION:Tamarindo Del Mar\, 1555 Camino Del Mar Ste. 116-117\, Del Mar\, CA\, 92014\, United States
CATEGORIES:Dining Experience,Happy Hour,Weekly Events
ATTACH;FMTTYPE=image/jpeg:https://delmarplaza.com/wp-content/uploads/2023/01/322300109_683847789896186_6485483313608084246_n.jpg
END:VEVENT
BEGIN:VEVENT
DTSTART;TZID=America/Los_Angeles:20260514T150000
DTEND;TZID=America/Los_Angeles:20260514T180000
DTSTAMP:20260420T035144
CREATED:20230302T023914Z
LAST-MODIFIED:20260114T214114Z
UID:10014939-1778770800-1778781600@delmarplaza.com
SUMMARY:Happy Hour @ Il Fornaio\, Del Mar
DESCRIPTION:HAPPY HOUR at II Fornaio\, Del Mar\nMONDAY – FRIDAY: 3 – 6PM\nCheck out the website to see featured Happy Hour items: linked here \n  \n 
URL:https://delmarplaza.com/event/happy-hour-il-fornaio-del-mar/2026-05-14/
LOCATION:Il Fornaio – Del Mar\, 1555 Camino Del Mar #301\, Del Mar\, CA\, 92014\, United States
CATEGORIES:Happy Hour
ATTACH;FMTTYPE=image/png:https://delmarplaza.com/wp-content/uploads/2023/03/IlFornaio.png
END:VEVENT
BEGIN:VEVENT
DTSTART;TZID=America/Los_Angeles:20260514T150000
DTEND;TZID=America/Los_Angeles:20260514T180000
DTSTAMP:20260420T035144
CREATED:20251210T235558Z
LAST-MODIFIED:20260114T214133Z
UID:10020987-1778770800-1778781600@delmarplaza.com
SUMMARY:Happy Hour @ Enoteca Del Fornaio\, Del Mar
DESCRIPTION:HAPPY HOUR at Enoteca Del Fornaio\nMONDAY – FRIDAY: 3 – 6PM\nCheck out the website to see featured Happy Hour items: linked here \n  \n 
URL:https://delmarplaza.com/event/happy-hour-il-fornaio-del-mar-copy/2026-05-14/
LOCATION:Enoteca Del Fornaio – Del Mar\, 1555 Camino Del Mar #301\, Del Mar\, CA\, 92014\, United States
CATEGORIES:Happy Hour
ATTACH;FMTTYPE=image/jpeg:https://delmarplaza.com/wp-content/uploads/2025/12/del-mar-enoteca-scaled.jpg
END:VEVENT
END:VCALENDAR