BEGIN:VCALENDAR
VERSION:2.0
PRODID:-//Del Mar Plaza - ECPv6.7.0//NONSGML v1.0//EN
CALSCALE:GREGORIAN
METHOD:PUBLISH
X-ORIGINAL-URL:https://delmarplaza.com
X-WR-CALDESC:Events for Del Mar Plaza
REFRESH-INTERVAL;VALUE=DURATION:PT1H
X-Robots-Tag:noindex
X-PUBLISHED-TTL:PT1H
BEGIN:VTIMEZONE
TZID:America/Los_Angeles
BEGIN:DAYLIGHT
TZOFFSETFROM:-0800
TZOFFSETTO:-0700
TZNAME:PDT
DTSTART:20250309T100000
END:DAYLIGHT
BEGIN:STANDARD
TZOFFSETFROM:-0700
TZOFFSETTO:-0800
TZNAME:PST
DTSTART:20251102T090000
END:STANDARD
END:VTIMEZONE
BEGIN:VEVENT
DTSTART;TZID=America/Los_Angeles:20251226T160000
DTEND;TZID=America/Los_Angeles:20251226T190000
DTSTAMP:20260420T195133
CREATED:20250108T190605Z
LAST-MODIFIED:20251208T222234Z
UID:10022199-1766764800-1766775600@delmarplaza.com
SUMMARY:Live Music - Monarch Ocean Pub
DESCRIPTION:Enjoy live music at Monarch Ocean Pub every Wednesday\, Friday and Sunday from 4:00 to 7:00 PM. Don’t miss the perfect blend of great tunes and ocean views.
URL:https://delmarplaza.com/event/live-music-monarch-ocean-pub-2/2025-12-26/
LOCATION:Monarch Ocean Pub\, 1555 Camino Del Mar Suite 322\, Del Mar\, CA\, 92014\, United States
CATEGORIES:Music
END:VEVENT
BEGIN:VEVENT
DTSTART;TZID=America/Los_Angeles:20251226T150000
DTEND;TZID=America/Los_Angeles:20251226T180000
DTSTAMP:20260420T195133
CREATED:20251209T200559Z
LAST-MODIFIED:20251209T200559Z
UID:10016186-1766761200-1766772000@delmarplaza.com
SUMMARY:Live Music - Monarch Ocean Pub
DESCRIPTION:Kick back at Monarch Ocean Pub and soak in the sounds of Jehua Evans  on 12/26. \nCan’t make it? Enjoy live music at Monarch Ocean Pub every Wednesday\, Friday and Sunday from 3:00 to 6:00 PM. Don’t miss the perfect blend of great tunes and ocean views.
URL:https://delmarplaza.com/event/live-music-monarch-ocean-pub-2-9/
LOCATION:Monarch Ocean Pub\, 1555 Camino Del Mar Suite 322\, Del Mar\, CA\, 92014\, United States
CATEGORIES:Music
END:VEVENT
BEGIN:VEVENT
DTSTART;TZID=America/Los_Angeles:20251224T160000
DTEND;TZID=America/Los_Angeles:20251224T190000
DTSTAMP:20260420T195133
CREATED:20250108T190605Z
LAST-MODIFIED:20251208T222234Z
UID:10022198-1766592000-1766602800@delmarplaza.com
SUMMARY:Live Music - Monarch Ocean Pub
DESCRIPTION:Enjoy live music at Monarch Ocean Pub every Wednesday\, Friday and Sunday from 4:00 to 7:00 PM. Don’t miss the perfect blend of great tunes and ocean views.
URL:https://delmarplaza.com/event/live-music-monarch-ocean-pub-2/2025-12-24/
LOCATION:Monarch Ocean Pub\, 1555 Camino Del Mar Suite 322\, Del Mar\, CA\, 92014\, United States
CATEGORIES:Music
END:VEVENT
BEGIN:VEVENT
DTSTART;TZID=America/Los_Angeles:20251224T150000
DTEND;TZID=America/Los_Angeles:20251224T180000
DTSTAMP:20260420T195133
CREATED:20251209T200349Z
LAST-MODIFIED:20251209T200350Z
UID:10016185-1766588400-1766599200@delmarplaza.com
SUMMARY:Live Music - Monarch Ocean Pub
DESCRIPTION:Kick back at Monarch Ocean Pub and soak in the sounds of Ben Benavente on 12/24. \nCan’t make it? Enjoy live music at Monarch Ocean Pub every Wednesday\, Friday and Sunday from 3:00 to 6:00 PM. Don’t miss the perfect blend of great tunes and ocean views.
URL:https://delmarplaza.com/event/live-music-monarch-ocean-pub-2-8/
LOCATION:Monarch Ocean Pub\, 1555 Camino Del Mar Suite 322\, Del Mar\, CA\, 92014\, United States
CATEGORIES:Music
END:VEVENT
BEGIN:VEVENT
DTSTART;TZID=America/Los_Angeles:20251221T160000
DTEND;TZID=America/Los_Angeles:20251221T190000
DTSTAMP:20260420T195133
CREATED:20250108T190605Z
LAST-MODIFIED:20251208T222234Z
UID:10022197-1766332800-1766343600@delmarplaza.com
SUMMARY:Live Music - Monarch Ocean Pub
DESCRIPTION:Enjoy live music at Monarch Ocean Pub every Wednesday\, Friday and Sunday from 4:00 to 7:00 PM. Don’t miss the perfect blend of great tunes and ocean views.
URL:https://delmarplaza.com/event/live-music-monarch-ocean-pub-2/2025-12-21/
LOCATION:Monarch Ocean Pub\, 1555 Camino Del Mar Suite 322\, Del Mar\, CA\, 92014\, United States
CATEGORIES:Music
END:VEVENT
BEGIN:VEVENT
DTSTART;TZID=America/Los_Angeles:20251221T150000
DTEND;TZID=America/Los_Angeles:20251221T180000
DTSTAMP:20260420T195133
CREATED:20251209T200439Z
LAST-MODIFIED:20251209T200439Z
UID:10020149-1766329200-1766340000@delmarplaza.com
SUMMARY:Live Music - Monarch Ocean Pub
DESCRIPTION:Kick back at Monarch Ocean Pub and soak in the sounds of Lee Melton on 12/21. \nCan’t make it? Enjoy live music at Monarch Ocean Pub every Wednesday\, Friday and Sunday from 3:00 to 6:00 PM. Don’t miss the perfect blend of great tunes and ocean views.
URL:https://delmarplaza.com/event/live-music-monarch-ocean-pub-4/
LOCATION:Monarch Ocean Pub\, 1555 Camino Del Mar Suite 322\, Del Mar\, CA\, 92014\, United States
CATEGORIES:Music
END:VEVENT
BEGIN:VEVENT
DTSTART;TZID=America/Los_Angeles:20251220T150000
DTEND;TZID=America/Los_Angeles:20251220T180000
DTSTAMP:20260420T195133
CREATED:20251209T200247Z
LAST-MODIFIED:20251209T200247Z
UID:10016184-1766242800-1766253600@delmarplaza.com
SUMMARY:Live Music - Monarch Ocean Pub
DESCRIPTION:Kick back at Monarch Ocean Pub and soak in the sounds of Christian Taylor on 12/20. \nCan’t make it? Enjoy live music at Monarch Ocean Pub every Wednesday\, Friday and Sunday from 3:00 to 6:00 PM. Don’t miss the perfect blend of great tunes and ocean views.
URL:https://delmarplaza.com/event/live-music-monarch-ocean-pub-2-7/
LOCATION:Monarch Ocean Pub\, 1555 Camino Del Mar Suite 322\, Del Mar\, CA\, 92014\, United States
CATEGORIES:Music
END:VEVENT
BEGIN:VEVENT
DTSTART;TZID=America/Los_Angeles:20251219T160000
DTEND;TZID=America/Los_Angeles:20251219T190000
DTSTAMP:20260420T195133
CREATED:20250108T190605Z
LAST-MODIFIED:20251208T222234Z
UID:10022196-1766160000-1766170800@delmarplaza.com
SUMMARY:Live Music - Monarch Ocean Pub
DESCRIPTION:Enjoy live music at Monarch Ocean Pub every Wednesday\, Friday and Sunday from 4:00 to 7:00 PM. Don’t miss the perfect blend of great tunes and ocean views.
URL:https://delmarplaza.com/event/live-music-monarch-ocean-pub-2/2025-12-19/
LOCATION:Monarch Ocean Pub\, 1555 Camino Del Mar Suite 322\, Del Mar\, CA\, 92014\, United States
CATEGORIES:Music
END:VEVENT
BEGIN:VEVENT
DTSTART;TZID=America/Los_Angeles:20251219T150000
DTEND;TZID=America/Los_Angeles:20251219T180000
DTSTAMP:20260420T195133
CREATED:20251209T200049Z
LAST-MODIFIED:20251209T200050Z
UID:10016183-1766156400-1766167200@delmarplaza.com
SUMMARY:Live Music - Monarch Ocean Pub
DESCRIPTION:Kick back at Monarch Ocean Pub and soak in the sounds of Jehua Evans on 12/19. \nCan’t make it? Enjoy live music at Monarch Ocean Pub every Wednesday\, Friday and Sunday from 3:00 to 6:00 PM. Don’t miss the perfect blend of great tunes and ocean views.
URL:https://delmarplaza.com/event/live-music-monarch-ocean-pub-2-6/
LOCATION:Monarch Ocean Pub\, 1555 Camino Del Mar Suite 322\, Del Mar\, CA\, 92014\, United States
CATEGORIES:Music
END:VEVENT
BEGIN:VEVENT
DTSTART;TZID=America/Los_Angeles:20251217T200000
DTEND;TZID=America/Los_Angeles:20251217T230000
DTSTAMP:20260420T195133
CREATED:20251209T195831Z
LAST-MODIFIED:20251209T195832Z
UID:10016182-1766001600-1766012400@delmarplaza.com
SUMMARY:Live Music - Monarch Ocean Pub
DESCRIPTION:Kick back at Monarch Ocean Pub and soak in the sounds of Ben Benavente & Christian Taylor on 12/17 from 8-11pm inside! \nCan’t make it? Enjoy live music at Monarch Ocean Pub every Wednesday\, Friday and Sunday from 3:00 to 6:00 PM. Don’t miss the perfect blend of great tunes and ocean views.
URL:https://delmarplaza.com/event/live-music-monarch-ocean-pub-2-5/
LOCATION:Monarch Ocean Pub\, 1555 Camino Del Mar Suite 322\, Del Mar\, CA\, 92014\, United States
CATEGORIES:Music
END:VEVENT
BEGIN:VEVENT
DTSTART;TZID=America/Los_Angeles:20251217T160000
DTEND;TZID=America/Los_Angeles:20251217T190000
DTSTAMP:20260420T195133
CREATED:20250108T190605Z
LAST-MODIFIED:20251208T222234Z
UID:10022195-1765987200-1765998000@delmarplaza.com
SUMMARY:Live Music - Monarch Ocean Pub
DESCRIPTION:Enjoy live music at Monarch Ocean Pub every Wednesday\, Friday and Sunday from 4:00 to 7:00 PM. Don’t miss the perfect blend of great tunes and ocean views.
URL:https://delmarplaza.com/event/live-music-monarch-ocean-pub-2/2025-12-17/
LOCATION:Monarch Ocean Pub\, 1555 Camino Del Mar Suite 322\, Del Mar\, CA\, 92014\, United States
CATEGORIES:Music
END:VEVENT
BEGIN:VEVENT
DTSTART;TZID=America/Los_Angeles:20251214T160000
DTEND;TZID=America/Los_Angeles:20251214T190000
DTSTAMP:20260420T195133
CREATED:20250108T190605Z
LAST-MODIFIED:20251208T222234Z
UID:10022194-1765728000-1765738800@delmarplaza.com
SUMMARY:Live Music - Monarch Ocean Pub
DESCRIPTION:Enjoy live music at Monarch Ocean Pub every Wednesday\, Friday and Sunday from 4:00 to 7:00 PM. Don’t miss the perfect blend of great tunes and ocean views.
URL:https://delmarplaza.com/event/live-music-monarch-ocean-pub-2/2025-12-14/
LOCATION:Monarch Ocean Pub\, 1555 Camino Del Mar Suite 322\, Del Mar\, CA\, 92014\, United States
CATEGORIES:Music
END:VEVENT
BEGIN:VEVENT
DTSTART;TZID=America/Los_Angeles:20251214T150000
DTEND;TZID=America/Los_Angeles:20251214T180000
DTSTAMP:20260420T195133
CREATED:20251208T222755Z
LAST-MODIFIED:20251208T222756Z
UID:10016181-1765724400-1765735200@delmarplaza.com
SUMMARY:Live Music - Monarch Ocean Pub
DESCRIPTION:Kick back at Monarch Ocean Pub and soak in the sounds of Lee Melton on 12/14. \nCan’t make it? Enjoy live music at Monarch Ocean Pub every Wednesday\, Friday and Sunday from 3:00 to 6:00 PM. Don’t miss the perfect blend of great tunes and ocean views.
URL:https://delmarplaza.com/event/live-music-monarch-ocean-pub-2-4/
LOCATION:Monarch Ocean Pub\, 1555 Camino Del Mar Suite 322\, Del Mar\, CA\, 92014\, United States
CATEGORIES:Music
END:VEVENT
BEGIN:VEVENT
DTSTART;TZID=America/Los_Angeles:20251213T150000
DTEND;TZID=America/Los_Angeles:20251213T180000
DTSTAMP:20260420T195133
CREATED:20251209T195922Z
LAST-MODIFIED:20251209T195922Z
UID:10020148-1765638000-1765648800@delmarplaza.com
SUMMARY:Live Music - Monarch Ocean Pub
DESCRIPTION:Kick back at Monarch Ocean Pub and soak in the sounds of Nico & Jason on 12/13. \nCan’t make it? Enjoy live music at Monarch Ocean Pub every Wednesday\, Friday and Sunday from 3:00 to 6:00 PM. Don’t miss the perfect blend of great tunes and ocean views.
URL:https://delmarplaza.com/event/live-music-monarch-ocean-pub-3/
LOCATION:Monarch Ocean Pub\, 1555 Camino Del Mar Suite 322\, Del Mar\, CA\, 92014\, United States
CATEGORIES:Music
END:VEVENT
BEGIN:VEVENT
DTSTART;TZID=America/Los_Angeles:20251212T160000
DTEND;TZID=America/Los_Angeles:20251212T190000
DTSTAMP:20260420T195133
CREATED:20250108T190605Z
LAST-MODIFIED:20251208T222234Z
UID:10022193-1765555200-1765566000@delmarplaza.com
SUMMARY:Live Music - Monarch Ocean Pub
DESCRIPTION:Enjoy live music at Monarch Ocean Pub every Wednesday\, Friday and Sunday from 4:00 to 7:00 PM. Don’t miss the perfect blend of great tunes and ocean views.
URL:https://delmarplaza.com/event/live-music-monarch-ocean-pub-2/2025-12-12/
LOCATION:Monarch Ocean Pub\, 1555 Camino Del Mar Suite 322\, Del Mar\, CA\, 92014\, United States
CATEGORIES:Music
END:VEVENT
BEGIN:VEVENT
DTSTART;TZID=America/Los_Angeles:20251212T150000
DTEND;TZID=America/Los_Angeles:20251212T180000
DTSTAMP:20260420T195133
CREATED:20251208T222555Z
LAST-MODIFIED:20251208T222555Z
UID:10016180-1765551600-1765562400@delmarplaza.com
SUMMARY:Live Music - Monarch Ocean Pub
DESCRIPTION:Kick back at Monarch Ocean Pub and soak in the sounds of Jehua Evans on 12/12. \nCan’t make it? Enjoy live music at Monarch Ocean Pub every Wednesday\, Friday and Sunday from 3:00 to 6:00 PM. Don’t miss the perfect blend of great tunes and ocean views.
URL:https://delmarplaza.com/event/live-music-monarch-ocean-pub-2-3/
LOCATION:Monarch Ocean Pub\, 1555 Camino Del Mar Suite 322\, Del Mar\, CA\, 92014\, United States
CATEGORIES:Music
END:VEVENT
BEGIN:VEVENT
DTSTART;TZID=America/Los_Angeles:20251210T160000
DTEND;TZID=America/Los_Angeles:20251210T190000
DTSTAMP:20260420T195133
CREATED:20250108T190605Z
LAST-MODIFIED:20251208T222234Z
UID:10022192-1765382400-1765393200@delmarplaza.com
SUMMARY:Live Music - Monarch Ocean Pub
DESCRIPTION:Enjoy live music at Monarch Ocean Pub every Wednesday\, Friday and Sunday from 4:00 to 7:00 PM. Don’t miss the perfect blend of great tunes and ocean views.
URL:https://delmarplaza.com/event/live-music-monarch-ocean-pub-2/2025-12-10/
LOCATION:Monarch Ocean Pub\, 1555 Camino Del Mar Suite 322\, Del Mar\, CA\, 92014\, United States
CATEGORIES:Music
END:VEVENT
BEGIN:VEVENT
DTSTART;TZID=America/Los_Angeles:20251210T150000
DTEND;TZID=America/Los_Angeles:20251210T180000
DTSTAMP:20260420T195133
CREATED:20251208T222447Z
LAST-MODIFIED:20251208T222447Z
UID:10016179-1765378800-1765389600@delmarplaza.com
SUMMARY:Live Music - Monarch Ocean Pub
DESCRIPTION:Kick back at Monarch Ocean Pub and soak in the sounds of Kekoa on 12/10. \nCan’t make it? Enjoy live music at Monarch Ocean Pub every Wednesday\, Friday and Sunday from 3:00 to 6:00 PM. Don’t miss the perfect blend of great tunes and ocean views.
URL:https://delmarplaza.com/event/live-music-monarch-ocean-pub-2-2/
LOCATION:Monarch Ocean Pub\, 1555 Camino Del Mar Suite 322\, Del Mar\, CA\, 92014\, United States
CATEGORIES:Music
END:VEVENT
BEGIN:VEVENT
DTSTART;TZID=America/Los_Angeles:20251207T130000
DTEND;TZID=America/Los_Angeles:20251207T170000
DTSTAMP:20260420T195133
CREATED:20251118T222435Z
LAST-MODIFIED:20251204T182202Z
UID:10020022-1765112400-1765126800@delmarplaza.com
SUMMARY:Live Music -  Jesse London
DESCRIPTION:Kick back on our Ocean View Deck and soak in the sounds of Jesse London\, playing holiday tunes from 1-5PM. Whether you’re dining at one of our restaurants\, browsing the shops\, or simply taking in the Pacific views\, it’s the perfect way to wind down your week at Del Mar Plaza.
URL:https://delmarplaza.com/event/seaside-sessions-jesse-london/
LOCATION:Ocean View Deck
CATEGORIES:Music
ATTACH;FMTTYPE=image/jpeg:https://delmarplaza.com/wp-content/uploads/2025/11/Jesse-London.jpg
END:VEVENT
BEGIN:VEVENT
DTSTART;TZID=America/Los_Angeles:20251205T160000
DTEND;TZID=America/Los_Angeles:20251205T190000
DTSTAMP:20260420T195133
CREATED:20250108T190605Z
LAST-MODIFIED:20251208T222234Z
UID:10016177-1764950400-1764961200@delmarplaza.com
SUMMARY:Live Music - Monarch Ocean Pub
DESCRIPTION:Enjoy live music at Monarch Ocean Pub every Wednesday\, Friday and Sunday from 4:00 to 7:00 PM. Don’t miss the perfect blend of great tunes and ocean views.
URL:https://delmarplaza.com/event/live-music-monarch-ocean-pub-2/2025-12-05/
LOCATION:Monarch Ocean Pub\, 1555 Camino Del Mar Suite 322\, Del Mar\, CA\, 92014\, United States
CATEGORIES:Music
END:VEVENT
BEGIN:VEVENT
DTSTART;TZID=America/Los_Angeles:20251203T160000
DTEND;TZID=America/Los_Angeles:20251203T190000
DTSTAMP:20260420T195133
CREATED:20250108T190605Z
LAST-MODIFIED:20251208T222234Z
UID:10016176-1764777600-1764788400@delmarplaza.com
SUMMARY:Live Music - Monarch Ocean Pub
DESCRIPTION:Enjoy live music at Monarch Ocean Pub every Wednesday\, Friday and Sunday from 4:00 to 7:00 PM. Don’t miss the perfect blend of great tunes and ocean views.
URL:https://delmarplaza.com/event/live-music-monarch-ocean-pub-2/2025-12-03/
LOCATION:Monarch Ocean Pub\, 1555 Camino Del Mar Suite 322\, Del Mar\, CA\, 92014\, United States
CATEGORIES:Music
END:VEVENT
BEGIN:VEVENT
DTSTART;TZID=America/Los_Angeles:20251130T160000
DTEND;TZID=America/Los_Angeles:20251130T190000
DTSTAMP:20260420T195133
CREATED:20250108T190605Z
LAST-MODIFIED:20251208T222234Z
UID:10016175-1764518400-1764529200@delmarplaza.com
SUMMARY:Live Music - Monarch Ocean Pub
DESCRIPTION:Enjoy live music at Monarch Ocean Pub every Wednesday\, Friday and Sunday from 4:00 to 7:00 PM. Don’t miss the perfect blend of great tunes and ocean views.
URL:https://delmarplaza.com/event/live-music-monarch-ocean-pub-2/2025-11-30/
LOCATION:Monarch Ocean Pub\, 1555 Camino Del Mar Suite 322\, Del Mar\, CA\, 92014\, United States
CATEGORIES:Music
END:VEVENT
BEGIN:VEVENT
DTSTART;TZID=America/Los_Angeles:20251128T160000
DTEND;TZID=America/Los_Angeles:20251128T190000
DTSTAMP:20260420T195133
CREATED:20250108T190605Z
LAST-MODIFIED:20251208T222234Z
UID:10016174-1764345600-1764356400@delmarplaza.com
SUMMARY:Live Music - Monarch Ocean Pub
DESCRIPTION:Enjoy live music at Monarch Ocean Pub every Wednesday\, Friday and Sunday from 4:00 to 7:00 PM. Don’t miss the perfect blend of great tunes and ocean views.
URL:https://delmarplaza.com/event/live-music-monarch-ocean-pub-2/2025-11-28/
LOCATION:Monarch Ocean Pub\, 1555 Camino Del Mar Suite 322\, Del Mar\, CA\, 92014\, United States
CATEGORIES:Music
END:VEVENT
BEGIN:VEVENT
DTSTART;TZID=America/Los_Angeles:20251126T160000
DTEND;TZID=America/Los_Angeles:20251126T190000
DTSTAMP:20260420T195133
CREATED:20250108T190605Z
LAST-MODIFIED:20251208T222234Z
UID:10016173-1764172800-1764183600@delmarplaza.com
SUMMARY:Live Music - Monarch Ocean Pub
DESCRIPTION:Enjoy live music at Monarch Ocean Pub every Wednesday\, Friday and Sunday from 4:00 to 7:00 PM. Don’t miss the perfect blend of great tunes and ocean views.
URL:https://delmarplaza.com/event/live-music-monarch-ocean-pub-2/2025-11-26/
LOCATION:Monarch Ocean Pub\, 1555 Camino Del Mar Suite 322\, Del Mar\, CA\, 92014\, United States
CATEGORIES:Music
END:VEVENT
BEGIN:VEVENT
DTSTART;TZID=America/Los_Angeles:20251123T160000
DTEND;TZID=America/Los_Angeles:20251123T190000
DTSTAMP:20260420T195133
CREATED:20250108T190605Z
LAST-MODIFIED:20251208T222234Z
UID:10016172-1763913600-1763924400@delmarplaza.com
SUMMARY:Live Music - Monarch Ocean Pub
DESCRIPTION:Enjoy live music at Monarch Ocean Pub every Wednesday\, Friday and Sunday from 4:00 to 7:00 PM. Don’t miss the perfect blend of great tunes and ocean views.
URL:https://delmarplaza.com/event/live-music-monarch-ocean-pub-2/2025-11-23/
LOCATION:Monarch Ocean Pub\, 1555 Camino Del Mar Suite 322\, Del Mar\, CA\, 92014\, United States
CATEGORIES:Music
END:VEVENT
BEGIN:VEVENT
DTSTART;TZID=America/Los_Angeles:20251121T160000
DTEND;TZID=America/Los_Angeles:20251121T190000
DTSTAMP:20260420T195133
CREATED:20250108T190605Z
LAST-MODIFIED:20251208T222234Z
UID:10016171-1763740800-1763751600@delmarplaza.com
SUMMARY:Live Music - Monarch Ocean Pub
DESCRIPTION:Enjoy live music at Monarch Ocean Pub every Wednesday\, Friday and Sunday from 4:00 to 7:00 PM. Don’t miss the perfect blend of great tunes and ocean views.
URL:https://delmarplaza.com/event/live-music-monarch-ocean-pub-2/2025-11-21/
LOCATION:Monarch Ocean Pub\, 1555 Camino Del Mar Suite 322\, Del Mar\, CA\, 92014\, United States
CATEGORIES:Music
END:VEVENT
BEGIN:VEVENT
DTSTART;TZID=America/Los_Angeles:20251119T160000
DTEND;TZID=America/Los_Angeles:20251119T190000
DTSTAMP:20260420T195133
CREATED:20250108T190605Z
LAST-MODIFIED:20251208T222234Z
UID:10016170-1763568000-1763578800@delmarplaza.com
SUMMARY:Live Music - Monarch Ocean Pub
DESCRIPTION:Enjoy live music at Monarch Ocean Pub every Wednesday\, Friday and Sunday from 4:00 to 7:00 PM. Don’t miss the perfect blend of great tunes and ocean views.
URL:https://delmarplaza.com/event/live-music-monarch-ocean-pub-2/2025-11-19/
LOCATION:Monarch Ocean Pub\, 1555 Camino Del Mar Suite 322\, Del Mar\, CA\, 92014\, United States
CATEGORIES:Music
END:VEVENT
BEGIN:VEVENT
DTSTART;TZID=America/Los_Angeles:20251116T160000
DTEND;TZID=America/Los_Angeles:20251116T190000
DTSTAMP:20260420T195133
CREATED:20250108T190605Z
LAST-MODIFIED:20251208T222234Z
UID:10016169-1763308800-1763319600@delmarplaza.com
SUMMARY:Live Music - Monarch Ocean Pub
DESCRIPTION:Enjoy live music at Monarch Ocean Pub every Wednesday\, Friday and Sunday from 4:00 to 7:00 PM. Don’t miss the perfect blend of great tunes and ocean views.
URL:https://delmarplaza.com/event/live-music-monarch-ocean-pub-2/2025-11-16/
LOCATION:Monarch Ocean Pub\, 1555 Camino Del Mar Suite 322\, Del Mar\, CA\, 92014\, United States
CATEGORIES:Music
END:VEVENT
BEGIN:VEVENT
DTSTART;TZID=America/Los_Angeles:20251114T160000
DTEND;TZID=America/Los_Angeles:20251114T190000
DTSTAMP:20260420T195133
CREATED:20250108T190605Z
LAST-MODIFIED:20251208T222234Z
UID:10016168-1763136000-1763146800@delmarplaza.com
SUMMARY:Live Music - Monarch Ocean Pub
DESCRIPTION:Enjoy live music at Monarch Ocean Pub every Wednesday\, Friday and Sunday from 4:00 to 7:00 PM. Don’t miss the perfect blend of great tunes and ocean views.
URL:https://delmarplaza.com/event/live-music-monarch-ocean-pub-2/2025-11-14/
LOCATION:Monarch Ocean Pub\, 1555 Camino Del Mar Suite 322\, Del Mar\, CA\, 92014\, United States
CATEGORIES:Music
END:VEVENT
BEGIN:VEVENT
DTSTART;TZID=America/Los_Angeles:20251112T160000
DTEND;TZID=America/Los_Angeles:20251112T190000
DTSTAMP:20260420T195133
CREATED:20250108T190605Z
LAST-MODIFIED:20251208T222234Z
UID:10016167-1762963200-1762974000@delmarplaza.com
SUMMARY:Live Music - Monarch Ocean Pub
DESCRIPTION:Enjoy live music at Monarch Ocean Pub every Wednesday\, Friday and Sunday from 4:00 to 7:00 PM. Don’t miss the perfect blend of great tunes and ocean views.
URL:https://delmarplaza.com/event/live-music-monarch-ocean-pub-2/2025-11-12/
LOCATION:Monarch Ocean Pub\, 1555 Camino Del Mar Suite 322\, Del Mar\, CA\, 92014\, United States
CATEGORIES:Music
END:VEVENT
END:VCALENDAR