BEGIN:VCALENDAR
VERSION:2.0
PRODID:-//Del Mar Plaza - ECPv6.7.0//NONSGML v1.0//EN
CALSCALE:GREGORIAN
METHOD:PUBLISH
X-WR-CALNAME:Del Mar Plaza
X-ORIGINAL-URL:https://delmarplaza.com
X-WR-CALDESC:Events for Del Mar Plaza
REFRESH-INTERVAL;VALUE=DURATION:PT1H
X-Robots-Tag:noindex
X-PUBLISHED-TTL:PT1H
BEGIN:VTIMEZONE
TZID:America/Los_Angeles
BEGIN:DAYLIGHT
TZOFFSETFROM:-0800
TZOFFSETTO:-0700
TZNAME:PDT
DTSTART:20260308T100000
END:DAYLIGHT
BEGIN:STANDARD
TZOFFSETFROM:-0700
TZOFFSETTO:-0800
TZNAME:PST
DTSTART:20261101T090000
END:STANDARD
END:VTIMEZONE
BEGIN:VEVENT
DTSTART;TZID=America/Los_Angeles:20260222T150000
DTEND;TZID=America/Los_Angeles:20260222T180000
DTSTAMP:20260420T131100
CREATED:20260112T192459Z
LAST-MODIFIED:20260112T192459Z
UID:10016211-1771772400-1771783200@delmarplaza.com
SUMMARY:Live Music - Monarch Ocean Pub
DESCRIPTION:Kick back at Monarch Ocean Pub and soak in the sounds of Lee Melton on 2/22 \nCan’t make it? Enjoy live music at Monarch Ocean Pub every Wednesday\, Friday and Sunday from 3:00 to 6:00 PM. Don’t miss the perfect blend of great tunes and ocean views.
URL:https://delmarplaza.com/event/live-music-monarch-ocean-pub-2-28/
LOCATION:Monarch Ocean Pub\, 1555 Camino Del Mar Suite 322\, Del Mar\, CA\, 92014\, United States
CATEGORIES:Music
END:VEVENT
BEGIN:VEVENT
DTSTART;TZID=America/Los_Angeles:20260221T150000
DTEND;TZID=America/Los_Angeles:20260221T180000
DTSTAMP:20260420T131100
CREATED:20260112T192324Z
LAST-MODIFIED:20260112T192404Z
UID:10022190-1771686000-1771696800@delmarplaza.com
SUMMARY:Live Music - Monarch Ocean Pub
DESCRIPTION:Kick back at Monarch Ocean Pub and soak in the sounds of Christian Taylor on 2/21 \nCan’t make it? Enjoy live music at Monarch Ocean Pub every Wednesday\, Friday and Sunday from 3:00 to 6:00 PM. Don’t miss the perfect blend of great tunes and ocean views.
URL:https://delmarplaza.com/event/live-music-monarch-ocean-pub-2-21-2/
LOCATION:Monarch Ocean Pub\, 1555 Camino Del Mar Suite 322\, Del Mar\, CA\, 92014\, United States
CATEGORIES:Music
END:VEVENT
BEGIN:VEVENT
DTSTART;TZID=America/Los_Angeles:20260220T150000
DTEND;TZID=America/Los_Angeles:20260220T180000
DTSTAMP:20260420T131100
CREATED:20260112T192256Z
LAST-MODIFIED:20260112T192256Z
UID:10016210-1771599600-1771610400@delmarplaza.com
SUMMARY:Live Music - Monarch Ocean Pub
DESCRIPTION:Kick back at Monarch Ocean Pub and soak in the sounds of Jehua Evans on 2/20 \nCan’t make it? Enjoy live music at Monarch Ocean Pub every Wednesday\, Friday and Sunday from 3:00 to 6:00 PM. Don’t miss the perfect blend of great tunes and ocean views.
URL:https://delmarplaza.com/event/live-music-monarch-ocean-pub-2-27/
LOCATION:Monarch Ocean Pub\, 1555 Camino Del Mar Suite 322\, Del Mar\, CA\, 92014\, United States
CATEGORIES:Music
END:VEVENT
BEGIN:VEVENT
DTSTART;TZID=America/Los_Angeles:20260218T150000
DTEND;TZID=America/Los_Angeles:20260218T180000
DTSTAMP:20260420T131100
CREATED:20260112T192107Z
LAST-MODIFIED:20260112T192107Z
UID:10016209-1771426800-1771437600@delmarplaza.com
SUMMARY:Live Music - Monarch Ocean Pub
DESCRIPTION:Kick back at Monarch Ocean Pub and soak in the sounds of Ben Benavente on 2/18 \nCan’t make it? Enjoy live music at Monarch Ocean Pub every Wednesday\, Friday and Sunday from 3:00 to 6:00 PM. Don’t miss the perfect blend of great tunes and ocean views.
URL:https://delmarplaza.com/event/live-music-monarch-ocean-pub-2-26/
LOCATION:Monarch Ocean Pub\, 1555 Camino Del Mar Suite 322\, Del Mar\, CA\, 92014\, United States
CATEGORIES:Music
END:VEVENT
BEGIN:VEVENT
DTSTART;TZID=America/Los_Angeles:20260215T150000
DTEND;TZID=America/Los_Angeles:20260215T180000
DTSTAMP:20260420T131100
CREATED:20260112T191703Z
LAST-MODIFIED:20260112T192012Z
UID:10016208-1771167600-1771178400@delmarplaza.com
SUMMARY:Live Music - Monarch Ocean Pub
DESCRIPTION:Kick back at Monarch Ocean Pub and soak in the sounds of Lee Melton on 2/15 \nCan’t make it? Enjoy live music at Monarch Ocean Pub every Wednesday\, Friday and Sunday from 3:00 to 6:00 PM. Don’t miss the perfect blend of great tunes and ocean views.
URL:https://delmarplaza.com/event/live-music-monarch-ocean-pub-2-15-2/
LOCATION:Monarch Ocean Pub\, 1555 Camino Del Mar Suite 322\, Del Mar\, CA\, 92014\, United States
CATEGORIES:Music
END:VEVENT
BEGIN:VEVENT
DTSTART;TZID=America/Los_Angeles:20260214T190000
DTEND;TZID=America/Los_Angeles:20260214T210000
DTSTAMP:20260420T131100
CREATED:20260210T175716Z
LAST-MODIFIED:20260210T175922Z
UID:10022473-1771095600-1771102800@delmarplaza.com
SUMMARY:Live Music - Michael SG
DESCRIPTION:Kick back on our Ocean View Deck and soak in the sounds of Michael SG\, a duo playing 7-9PM this Valentine’s Day. Whether you’re dining at one of our restaurants\, browsing the shops\, or simply taking in the Pacific views\, it’s the perfect way to wind down your week at Del Mar Plaza.
URL:https://delmarplaza.com/event/seaside-sessions-michael-sg/
LOCATION:Ocean View Deck
CATEGORIES:Music,Valentine's Day
ATTACH;FMTTYPE=image/png:https://delmarplaza.com/wp-content/uploads/2026/02/image001-3.png
END:VEVENT
BEGIN:VEVENT
DTSTART;TZID=America/Los_Angeles:20260214T150000
DTEND;TZID=America/Los_Angeles:20260214T180000
DTSTAMP:20260420T131100
CREATED:20260112T191553Z
LAST-MODIFIED:20260112T192209Z
UID:10022189-1771081200-1771092000@delmarplaza.com
SUMMARY:Live Music - Monarch Ocean Pub
DESCRIPTION:Kick back at Monarch Ocean Pub and soak in the sounds of Christian Taylor on 2/14 \nCan’t make it? Enjoy live music at Monarch Ocean Pub every Wednesday\, Friday and Sunday from 3:00 to 6:00 PM. Don’t miss the perfect blend of great tunes and ocean views.
URL:https://delmarplaza.com/event/live-music-monarch-ocean-pub-2-14-2/
LOCATION:Monarch Ocean Pub\, 1555 Camino Del Mar Suite 322\, Del Mar\, CA\, 92014\, United States
CATEGORIES:Music
END:VEVENT
BEGIN:VEVENT
DTSTART;TZID=America/Los_Angeles:20260213T150000
DTEND;TZID=America/Los_Angeles:20260213T180000
DTSTAMP:20260420T131100
CREATED:20260112T191523Z
LAST-MODIFIED:20260112T191523Z
UID:10016207-1770994800-1771005600@delmarplaza.com
SUMMARY:Live Music - Monarch Ocean Pub
DESCRIPTION:Kick back at Monarch Ocean Pub and soak in the sounds of Jehua Evans on 2/13 \nCan’t make it? Enjoy live music at Monarch Ocean Pub every Wednesday\, Friday and Sunday from 3:00 to 6:00 PM. Don’t miss the perfect blend of great tunes and ocean views.
URL:https://delmarplaza.com/event/live-music-monarch-ocean-pub-2-25/
LOCATION:Monarch Ocean Pub\, 1555 Camino Del Mar Suite 322\, Del Mar\, CA\, 92014\, United States
CATEGORIES:Music
END:VEVENT
BEGIN:VEVENT
DTSTART;TZID=America/Los_Angeles:20260211T150000
DTEND;TZID=America/Los_Angeles:20260211T180000
DTSTAMP:20260420T131100
CREATED:20260112T191426Z
LAST-MODIFIED:20260112T191438Z
UID:10016206-1770822000-1770832800@delmarplaza.com
SUMMARY:Live Music - Monarch Ocean Pub
DESCRIPTION:Kick back at Monarch Ocean Pub and soak in the sounds of Ben Benavente on 2/11 \nCan’t make it? Enjoy live music at Monarch Ocean Pub every Wednesday\, Friday and Sunday from 3:00 to 6:00 PM. Don’t miss the perfect blend of great tunes and ocean views.
URL:https://delmarplaza.com/event/live-music-monarch-ocean-pub-2-24/
LOCATION:Monarch Ocean Pub\, 1555 Camino Del Mar Suite 322\, Del Mar\, CA\, 92014\, United States
CATEGORIES:Music
END:VEVENT
BEGIN:VEVENT
DTSTART;TZID=America/Los_Angeles:20260208T160000
DTEND;TZID=America/Los_Angeles:20260208T190000
DTSTAMP:20260420T131100
CREATED:20260112T191339Z
LAST-MODIFIED:20260112T191339Z
UID:10016205-1770566400-1770577200@delmarplaza.com
SUMMARY:Live Music - Monarch Ocean Pub
DESCRIPTION:Kick back at Monarch Ocean Pub and soak in the sounds of Lee Melton on 2/8 \nCan’t make it? Enjoy live music at Monarch Ocean Pub every Wednesday\, Friday and Sunday from 3:00 to 6:00 PM. Don’t miss the perfect blend of great tunes and ocean views.
URL:https://delmarplaza.com/event/live-music-monarch-ocean-pub-2-23/
LOCATION:Monarch Ocean Pub\, 1555 Camino Del Mar Suite 322\, Del Mar\, CA\, 92014\, United States
CATEGORIES:Music
END:VEVENT
BEGIN:VEVENT
DTSTART;TZID=America/Los_Angeles:20260207T150000
DTEND;TZID=America/Los_Angeles:20260207T180000
DTSTAMP:20260420T131100
CREATED:20260112T191004Z
LAST-MODIFIED:20260127T170322Z
UID:10022188-1770476400-1770487200@delmarplaza.com
SUMMARY:Live Music - Monarch Ocean Pub
DESCRIPTION:Kick back at Monarch Ocean Pub and soak in the sounds of Christian Taylor on 2/7 \nCan’t make it? Enjoy live music at Monarch Ocean Pub every Wednesday\, Friday and Sunday from 3:00 to 6:00 PM. Don’t miss the perfect blend of great tunes and ocean views.
URL:https://delmarplaza.com/event/live-music-monarch-ocean-pub-2-07/
LOCATION:Monarch Ocean Pub\, 1555 Camino Del Mar Suite 322\, Del Mar\, CA\, 92014\, United States
CATEGORIES:Music
END:VEVENT
BEGIN:VEVENT
DTSTART;TZID=America/Los_Angeles:20260206T150000
DTEND;TZID=America/Los_Angeles:20260206T180000
DTSTAMP:20260420T131100
CREATED:20260112T191201Z
LAST-MODIFIED:20260112T191201Z
UID:10016204-1770390000-1770400800@delmarplaza.com
SUMMARY:Live Music - Monarch Ocean Pub
DESCRIPTION:Kick back at Monarch Ocean Pub and soak in the sounds of Jehua Evans on 2/6 \nCan’t make it? Enjoy live music at Monarch Ocean Pub every Wednesday\, Friday and Sunday from 3:00 to 6:00 PM. Don’t miss the perfect blend of great tunes and ocean views.
URL:https://delmarplaza.com/event/live-music-monarch-ocean-pub-2-22/
LOCATION:Monarch Ocean Pub\, 1555 Camino Del Mar Suite 322\, Del Mar\, CA\, 92014\, United States
CATEGORIES:Music
END:VEVENT
BEGIN:VEVENT
DTSTART;TZID=America/Los_Angeles:20260204T150000
DTEND;TZID=America/Los_Angeles:20260204T180000
DTSTAMP:20260420T131100
CREATED:20260112T191055Z
LAST-MODIFIED:20260112T191115Z
UID:10016203-1770217200-1770228000@delmarplaza.com
SUMMARY:Live Music - Monarch Ocean Pub
DESCRIPTION:Kick back at Monarch Ocean Pub and soak in the sounds of Ben Benavente on 2/4 \nCan’t make it? Enjoy live music at Monarch Ocean Pub every Wednesday\, Friday and Sunday from 3:00 to 6:00 PM. Don’t miss the perfect blend of great tunes and ocean views.
URL:https://delmarplaza.com/event/live-music-monarch-ocean-pub-2-04/
LOCATION:Monarch Ocean Pub\, 1555 Camino Del Mar Suite 322\, Del Mar\, CA\, 92014\, United States
CATEGORIES:Music
END:VEVENT
BEGIN:VEVENT
DTSTART;TZID=America/Los_Angeles:20260201T150000
DTEND;TZID=America/Los_Angeles:20260201T180000
DTSTAMP:20260420T131100
CREATED:20260112T190416Z
LAST-MODIFIED:20260112T190416Z
UID:10016202-1769958000-1769968800@delmarplaza.com
SUMMARY:Live Music - Monarch Ocean Pub
DESCRIPTION:Kick back at Monarch Ocean Pub and soak in the sounds of Lee Melton on 2/1 \nCan’t make it? Enjoy live music at Monarch Ocean Pub every Wednesday\, Friday and Sunday from 3:00 to 6:00 PM. Don’t miss the perfect blend of great tunes and ocean views.
URL:https://delmarplaza.com/event/live-music-monarch-ocean-pub-2-21/
LOCATION:Monarch Ocean Pub\, 1555 Camino Del Mar Suite 322\, Del Mar\, CA\, 92014\, United States
CATEGORIES:Music
END:VEVENT
BEGIN:VEVENT
DTSTART;TZID=America/Los_Angeles:20260131T150000
DTEND;TZID=America/Los_Angeles:20260131T180000
DTSTAMP:20260420T131100
CREATED:20260112T185948Z
LAST-MODIFIED:20260112T190042Z
UID:10022187-1769871600-1769882400@delmarplaza.com
SUMMARY:Live Music - Monarch Ocean Pub
DESCRIPTION:Kick back at Monarch Ocean Pub and soak in the sounds of Christian Taylors on 1/31 \nCan’t make it? Enjoy live music at Monarch Ocean Pub every Wednesday\, Friday and Sunday from 3:00 to 6:00 PM. Don’t miss the perfect blend of great tunes and ocean views.
URL:https://delmarplaza.com/event/live-music-monarch-ocean-pub-1-31/
LOCATION:Monarch Ocean Pub\, 1555 Camino Del Mar Suite 322\, Del Mar\, CA\, 92014\, United States
CATEGORIES:Music
END:VEVENT
BEGIN:VEVENT
DTSTART;TZID=America/Los_Angeles:20260130T150000
DTEND;TZID=America/Los_Angeles:20260130T180000
DTSTAMP:20260420T131100
CREATED:20260112T185744Z
LAST-MODIFIED:20260112T185745Z
UID:10016201-1769785200-1769796000@delmarplaza.com
SUMMARY:Live Music - Monarch Ocean Pub
DESCRIPTION:Kick back at Monarch Ocean Pub and soak in the sounds of Jehua Evans on 1/30 \nCan’t make it? Enjoy live music at Monarch Ocean Pub every Wednesday\, Friday and Sunday from 3:00 to 6:00 PM. Don’t miss the perfect blend of great tunes and ocean views.
URL:https://delmarplaza.com/event/live-music-monarch-ocean-pub-2-20/
LOCATION:Monarch Ocean Pub\, 1555 Camino Del Mar Suite 322\, Del Mar\, CA\, 92014\, United States
CATEGORIES:Music
END:VEVENT
BEGIN:VEVENT
DTSTART;TZID=America/Los_Angeles:20260128T150000
DTEND;TZID=America/Los_Angeles:20260128T180000
DTSTAMP:20260420T131100
CREATED:20260112T185616Z
LAST-MODIFIED:20260112T185617Z
UID:10016200-1769612400-1769623200@delmarplaza.com
SUMMARY:Live Music - Monarch Ocean Pub
DESCRIPTION:Kick back at Monarch Ocean Pub and soak in the sounds of Ben Benavente on 1/28 \nCan’t make it? Enjoy live music at Monarch Ocean Pub every Wednesday\, Friday and Sunday from 3:00 to 6:00 PM. Don’t miss the perfect blend of great tunes and ocean views.
URL:https://delmarplaza.com/event/live-music-monarch-ocean-pub-2-19/
LOCATION:Monarch Ocean Pub\, 1555 Camino Del Mar Suite 322\, Del Mar\, CA\, 92014\, United States
CATEGORIES:Music
END:VEVENT
BEGIN:VEVENT
DTSTART;TZID=America/Los_Angeles:20260125T150000
DTEND;TZID=America/Los_Angeles:20260125T180000
DTSTAMP:20260420T131100
CREATED:20260112T185303Z
LAST-MODIFIED:20260112T185303Z
UID:10016199-1769353200-1769364000@delmarplaza.com
SUMMARY:Live Music - Monarch Ocean Pub
DESCRIPTION:Kick back at Monarch Ocean Pub and soak in the sounds of Lee Melton on 1/25 \nCan’t make it? Enjoy live music at Monarch Ocean Pub every Wednesday\, Friday and Sunday from 3:00 to 6:00 PM. Don’t miss the perfect blend of great tunes and ocean views.
URL:https://delmarplaza.com/event/live-music-monarch-ocean-pub-2-18/
LOCATION:Monarch Ocean Pub\, 1555 Camino Del Mar Suite 322\, Del Mar\, CA\, 92014\, United States
CATEGORIES:Music
END:VEVENT
BEGIN:VEVENT
DTSTART;TZID=America/Los_Angeles:20260124T150000
DTEND;TZID=America/Los_Angeles:20260124T180000
DTSTAMP:20260420T131100
CREATED:20260112T185030Z
LAST-MODIFIED:20260112T185130Z
UID:10022186-1769266800-1769277600@delmarplaza.com
SUMMARY:Live Music - Monarch Ocean Pub
DESCRIPTION:Kick back at Monarch Ocean Pub and soak in the sounds of Christian Taylor on 1/18 \nCan’t make it? Enjoy live music at Monarch Ocean Pub every Wednesday\, Friday and Sunday from 3:00 to 6:00 PM. Don’t miss the perfect blend of great tunes and ocean views.
URL:https://delmarplaza.com/event/live-music-monarch-ocean-pub-1-18/
LOCATION:Monarch Ocean Pub\, 1555 Camino Del Mar Suite 322\, Del Mar\, CA\, 92014\, United States
CATEGORIES:Music
END:VEVENT
BEGIN:VEVENT
DTSTART;TZID=America/Los_Angeles:20260123T150000
DTEND;TZID=America/Los_Angeles:20260123T180000
DTSTAMP:20260420T131100
CREATED:20260112T184949Z
LAST-MODIFIED:20260112T184950Z
UID:10016198-1769180400-1769191200@delmarplaza.com
SUMMARY:Live Music - Monarch Ocean Pub
DESCRIPTION:Kick back at Monarch Ocean Pub and soak in the sounds of Jehua Evans on 1/18 \nCan’t make it? Enjoy live music at Monarch Ocean Pub every Wednesday\, Friday and Sunday from 3:00 to 6:00 PM. Don’t miss the perfect blend of great tunes and ocean views.
URL:https://delmarplaza.com/event/live-music-monarch-ocean-pub-2-17/
LOCATION:Monarch Ocean Pub\, 1555 Camino Del Mar Suite 322\, Del Mar\, CA\, 92014\, United States
CATEGORIES:Music
END:VEVENT
BEGIN:VEVENT
DTSTART;VALUE=DATE:20260120
DTEND;VALUE=DATE:20260122
DTSTAMP:20260420T131100
CREATED:20260112T184838Z
LAST-MODIFIED:20260112T184838Z
UID:10016197-1768867200-1769039999@delmarplaza.com
SUMMARY:Monarch Ocean Pub - CLOSED
DESCRIPTION:
URL:https://delmarplaza.com/event/live-music-monarch-ocean-pub-2-16/
LOCATION:Monarch Ocean Pub\, 1555 Camino Del Mar Suite 322\, Del Mar\, CA\, 92014\, United States
CATEGORIES:Music
END:VEVENT
BEGIN:VEVENT
DTSTART;TZID=America/Los_Angeles:20260118T150000
DTEND;TZID=America/Los_Angeles:20260118T180000
DTSTAMP:20260420T131100
CREATED:20260112T184701Z
LAST-MODIFIED:20260112T184702Z
UID:10016196-1768748400-1768759200@delmarplaza.com
SUMMARY:Live Music - Monarch Ocean Pub
DESCRIPTION:Kick back at Monarch Ocean Pub and soak in the sounds of Lee Melton on 1/18 \nCan’t make it? Enjoy live music at Monarch Ocean Pub every Wednesday\, Friday and Sunday from 3:00 to 6:00 PM. Don’t miss the perfect blend of great tunes and ocean views.
URL:https://delmarplaza.com/event/live-music-monarch-ocean-pub-2-15/
LOCATION:Monarch Ocean Pub\, 1555 Camino Del Mar Suite 322\, Del Mar\, CA\, 92014\, United States
CATEGORIES:Music
END:VEVENT
BEGIN:VEVENT
DTSTART;TZID=America/Los_Angeles:20260117T150000
DTEND;TZID=America/Los_Angeles:20260117T180000
DTSTAMP:20260420T131100
CREATED:20260112T184226Z
LAST-MODIFIED:20260112T184738Z
UID:10022185-1768662000-1768672800@delmarplaza.com
SUMMARY:Live Music - Monarch Ocean Pub
DESCRIPTION:Kick back at Monarch Ocean Pub and soak in the sounds of Christian Taylor on 1/17 \nCan’t make it? Enjoy live music at Monarch Ocean Pub every Wednesday\, Friday and Sunday from 3:00 to 6:00 PM. Don’t miss the perfect blend of great tunes and ocean views.
URL:https://delmarplaza.com/event/live-music-monarch-ocean-pub-1-17/
LOCATION:Monarch Ocean Pub\, 1555 Camino Del Mar Suite 322\, Del Mar\, CA\, 92014\, United States
CATEGORIES:Music
END:VEVENT
BEGIN:VEVENT
DTSTART;TZID=America/Los_Angeles:20260116T150000
DTEND;TZID=America/Los_Angeles:20260116T180000
DTSTAMP:20260420T131100
CREATED:20260112T184132Z
LAST-MODIFIED:20260112T184133Z
UID:10016195-1768575600-1768586400@delmarplaza.com
SUMMARY:Live Music - Monarch Ocean Pub
DESCRIPTION:Kick back at Monarch Ocean Pub and soak in the sounds of Jehua Evans on 1/16 \nCan’t make it? Enjoy live music at Monarch Ocean Pub every Wednesday\, Friday and Sunday from 3:00 to 6:00 PM. Don’t miss the perfect blend of great tunes and ocean views.
URL:https://delmarplaza.com/event/live-music-monarch-ocean-pub-2-14/
LOCATION:Monarch Ocean Pub\, 1555 Camino Del Mar Suite 322\, Del Mar\, CA\, 92014\, United States
CATEGORIES:Music
END:VEVENT
BEGIN:VEVENT
DTSTART;TZID=America/Los_Angeles:20260114T150000
DTEND;TZID=America/Los_Angeles:20260114T180000
DTSTAMP:20260420T131100
CREATED:20260112T183816Z
LAST-MODIFIED:20260112T183950Z
UID:10016194-1768402800-1768413600@delmarplaza.com
SUMMARY:Live Music - Monarch Ocean Pub
DESCRIPTION:Kick back at Monarch Ocean Pub and soak in the sounds of Ben Benavente on 1/14 \nCan’t make it? Enjoy live music at Monarch Ocean Pub every Wednesday\, Friday and Sunday from 3:00 to 6:00 PM. Don’t miss the perfect blend of great tunes and ocean views.
URL:https://delmarplaza.com/event/live-music-monarch-ocean-pub-2-13/
LOCATION:Monarch Ocean Pub\, 1555 Camino Del Mar Suite 322\, Del Mar\, CA\, 92014\, United States
CATEGORIES:Music
END:VEVENT
BEGIN:VEVENT
DTSTART;TZID=America/Los_Angeles:20260111T160000
DTEND;TZID=America/Los_Angeles:20260111T190000
DTSTAMP:20260420T131100
CREATED:20250108T190605Z
LAST-MODIFIED:20251208T222234Z
UID:10016193-1768147200-1768158000@delmarplaza.com
SUMMARY:Live Music - Monarch Ocean Pub
DESCRIPTION:Enjoy live music at Monarch Ocean Pub every Wednesday\, Friday and Sunday from 4:00 to 7:00 PM. Don’t miss the perfect blend of great tunes and ocean views.
URL:https://delmarplaza.com/event/live-music-monarch-ocean-pub-2/2026-01-11/
LOCATION:Monarch Ocean Pub\, 1555 Camino Del Mar Suite 322\, Del Mar\, CA\, 92014\, United States
CATEGORIES:Music
END:VEVENT
BEGIN:VEVENT
DTSTART;TZID=America/Los_Angeles:20260109T160000
DTEND;TZID=America/Los_Angeles:20260109T190000
DTSTAMP:20260420T131100
CREATED:20250108T190605Z
LAST-MODIFIED:20251208T222234Z
UID:10016192-1767974400-1767985200@delmarplaza.com
SUMMARY:Live Music - Monarch Ocean Pub
DESCRIPTION:Enjoy live music at Monarch Ocean Pub every Wednesday\, Friday and Sunday from 4:00 to 7:00 PM. Don’t miss the perfect blend of great tunes and ocean views.
URL:https://delmarplaza.com/event/live-music-monarch-ocean-pub-2/2026-01-09/
LOCATION:Monarch Ocean Pub\, 1555 Camino Del Mar Suite 322\, Del Mar\, CA\, 92014\, United States
CATEGORIES:Music
END:VEVENT
BEGIN:VEVENT
DTSTART;TZID=America/Los_Angeles:20260107T160000
DTEND;TZID=America/Los_Angeles:20260107T190000
DTSTAMP:20260420T131100
CREATED:20250108T190605Z
LAST-MODIFIED:20251208T222234Z
UID:10016191-1767801600-1767812400@delmarplaza.com
SUMMARY:Live Music - Monarch Ocean Pub
DESCRIPTION:Enjoy live music at Monarch Ocean Pub every Wednesday\, Friday and Sunday from 4:00 to 7:00 PM. Don’t miss the perfect blend of great tunes and ocean views.
URL:https://delmarplaza.com/event/live-music-monarch-ocean-pub-2/2026-01-07/
LOCATION:Monarch Ocean Pub\, 1555 Camino Del Mar Suite 322\, Del Mar\, CA\, 92014\, United States
CATEGORIES:Music
END:VEVENT
BEGIN:VEVENT
DTSTART;TZID=America/Los_Angeles:20260104T160000
DTEND;TZID=America/Los_Angeles:20260104T190000
DTSTAMP:20260420T131100
CREATED:20250108T190605Z
LAST-MODIFIED:20251208T222234Z
UID:10016190-1767542400-1767553200@delmarplaza.com
SUMMARY:Live Music - Monarch Ocean Pub
DESCRIPTION:Enjoy live music at Monarch Ocean Pub every Wednesday\, Friday and Sunday from 4:00 to 7:00 PM. Don’t miss the perfect blend of great tunes and ocean views.
URL:https://delmarplaza.com/event/live-music-monarch-ocean-pub-2/2026-01-04/
LOCATION:Monarch Ocean Pub\, 1555 Camino Del Mar Suite 322\, Del Mar\, CA\, 92014\, United States
CATEGORIES:Music
END:VEVENT
BEGIN:VEVENT
DTSTART;TZID=America/Los_Angeles:20260102T160000
DTEND;TZID=America/Los_Angeles:20260102T190000
DTSTAMP:20260420T131100
CREATED:20250108T190605Z
LAST-MODIFIED:20251208T222234Z
UID:10022202-1767369600-1767380400@delmarplaza.com
SUMMARY:Live Music - Monarch Ocean Pub
DESCRIPTION:Enjoy live music at Monarch Ocean Pub every Wednesday\, Friday and Sunday from 4:00 to 7:00 PM. Don’t miss the perfect blend of great tunes and ocean views.
URL:https://delmarplaza.com/event/live-music-monarch-ocean-pub-2/2026-01-02/
LOCATION:Monarch Ocean Pub\, 1555 Camino Del Mar Suite 322\, Del Mar\, CA\, 92014\, United States
CATEGORIES:Music
END:VEVENT
END:VCALENDAR