BEGIN:VCALENDAR
VERSION:2.0
PRODID:-//Del Mar Plaza - ECPv6.7.0//NONSGML v1.0//EN
CALSCALE:GREGORIAN
METHOD:PUBLISH
X-WR-CALNAME:Del Mar Plaza
X-ORIGINAL-URL:https://delmarplaza.com
X-WR-CALDESC:Events for Del Mar Plaza
REFRESH-INTERVAL;VALUE=DURATION:PT1H
X-Robots-Tag:noindex
X-PUBLISHED-TTL:PT1H
BEGIN:VTIMEZONE
TZID:America/Los_Angeles
BEGIN:DAYLIGHT
TZOFFSETFROM:-0800
TZOFFSETTO:-0700
TZNAME:PDT
DTSTART:20250309T100000
END:DAYLIGHT
BEGIN:STANDARD
TZOFFSETFROM:-0700
TZOFFSETTO:-0800
TZNAME:PST
DTSTART:20251102T090000
END:STANDARD
END:VTIMEZONE
BEGIN:VEVENT
DTSTART;TZID=America/Los_Angeles:20251001T160000
DTEND;TZID=America/Los_Angeles:20251001T190000
DTSTAMP:20260421T054424
CREATED:20250108T190605Z
LAST-MODIFIED:20251208T222234Z
UID:10016149-1759334400-1759345200@delmarplaza.com
SUMMARY:Live Music - Monarch Ocean Pub
DESCRIPTION:Enjoy live music at Monarch Ocean Pub every Wednesday\, Friday and Sunday from 4:00 to 7:00 PM. Don’t miss the perfect blend of great tunes and ocean views.
URL:https://delmarplaza.com/event/live-music-monarch-ocean-pub-2/2025-10-01/
LOCATION:Monarch Ocean Pub\, 1555 Camino Del Mar Suite 322\, Del Mar\, CA\, 92014\, United States
CATEGORIES:Music
END:VEVENT
BEGIN:VEVENT
DTSTART;TZID=America/Los_Angeles:20250928T160000
DTEND;TZID=America/Los_Angeles:20250928T190000
DTSTAMP:20260421T054424
CREATED:20250108T190605Z
LAST-MODIFIED:20251208T222234Z
UID:10016148-1759075200-1759086000@delmarplaza.com
SUMMARY:Live Music - Monarch Ocean Pub
DESCRIPTION:Enjoy live music at Monarch Ocean Pub every Wednesday\, Friday and Sunday from 4:00 to 7:00 PM. Don’t miss the perfect blend of great tunes and ocean views.
URL:https://delmarplaza.com/event/live-music-monarch-ocean-pub-2/2025-09-28/
LOCATION:Monarch Ocean Pub\, 1555 Camino Del Mar Suite 322\, Del Mar\, CA\, 92014\, United States
CATEGORIES:Music
END:VEVENT
BEGIN:VEVENT
DTSTART;TZID=America/Los_Angeles:20250926T160000
DTEND;TZID=America/Los_Angeles:20250926T190000
DTSTAMP:20260421T054424
CREATED:20250108T190605Z
LAST-MODIFIED:20251208T222234Z
UID:10016147-1758902400-1758913200@delmarplaza.com
SUMMARY:Live Music - Monarch Ocean Pub
DESCRIPTION:Enjoy live music at Monarch Ocean Pub every Wednesday\, Friday and Sunday from 4:00 to 7:00 PM. Don’t miss the perfect blend of great tunes and ocean views.
URL:https://delmarplaza.com/event/live-music-monarch-ocean-pub-2/2025-09-26/
LOCATION:Monarch Ocean Pub\, 1555 Camino Del Mar Suite 322\, Del Mar\, CA\, 92014\, United States
CATEGORIES:Music
END:VEVENT
BEGIN:VEVENT
DTSTART;TZID=America/Los_Angeles:20250925T170000
DTEND;TZID=America/Los_Angeles:20250925T190000
DTSTAMP:20260421T054424
CREATED:20250806T204011Z
LAST-MODIFIED:20250806T204011Z
UID:10018190-1758819600-1758826800@delmarplaza.com
SUMMARY:Seaside Sessions - Micheal Tiernan
DESCRIPTION:Kick back on our Ocean View Deck and soak in the sounds of Micheal Tiernan — blending Folk\, Blues\, Soul\, Pop\, and Rock — from 5–7 PM. Whether you’re dining at one of our restaurants\, browsing the shops\, or simply taking in the Pacific views\, it’s the perfect way to wind down your week at Del Mar Plaza.
URL:https://delmarplaza.com/event/seaside-sessions-micheal-tiernan/
LOCATION:Ocean View Deck
CATEGORIES:Music
ATTACH;FMTTYPE=image/jpeg:https://delmarplaza.com/wp-content/uploads/2024/07/Michael-Tiernan-1-1.jpg
END:VEVENT
BEGIN:VEVENT
DTSTART;TZID=America/Los_Angeles:20250924T160000
DTEND;TZID=America/Los_Angeles:20250924T190000
DTSTAMP:20260421T054424
CREATED:20250108T190605Z
LAST-MODIFIED:20251208T222234Z
UID:10016146-1758729600-1758740400@delmarplaza.com
SUMMARY:Live Music - Monarch Ocean Pub
DESCRIPTION:Enjoy live music at Monarch Ocean Pub every Wednesday\, Friday and Sunday from 4:00 to 7:00 PM. Don’t miss the perfect blend of great tunes and ocean views.
URL:https://delmarplaza.com/event/live-music-monarch-ocean-pub-2/2025-09-24/
LOCATION:Monarch Ocean Pub\, 1555 Camino Del Mar Suite 322\, Del Mar\, CA\, 92014\, United States
CATEGORIES:Music
END:VEVENT
BEGIN:VEVENT
DTSTART;TZID=America/Los_Angeles:20250921T160000
DTEND;TZID=America/Los_Angeles:20250921T190000
DTSTAMP:20260421T054424
CREATED:20250108T190605Z
LAST-MODIFIED:20251208T222234Z
UID:10016145-1758470400-1758481200@delmarplaza.com
SUMMARY:Live Music - Monarch Ocean Pub
DESCRIPTION:Enjoy live music at Monarch Ocean Pub every Wednesday\, Friday and Sunday from 4:00 to 7:00 PM. Don’t miss the perfect blend of great tunes and ocean views.
URL:https://delmarplaza.com/event/live-music-monarch-ocean-pub-2/2025-09-21/
LOCATION:Monarch Ocean Pub\, 1555 Camino Del Mar Suite 322\, Del Mar\, CA\, 92014\, United States
CATEGORIES:Music
END:VEVENT
BEGIN:VEVENT
DTSTART;TZID=America/Los_Angeles:20250920T170000
DTEND;TZID=America/Los_Angeles:20250920T190000
DTSTAMP:20260421T054424
CREATED:20250806T203821Z
LAST-MODIFIED:20250806T203821Z
UID:10018189-1758387600-1758394800@delmarplaza.com
SUMMARY:Seaside Sessions - Ass Pocket Whiskey Fellas
DESCRIPTION:Kick back on our Ocean View Deck and soak in the sounds of Ass Pocket Whiskey Fellas  — blending Irish\, Rock\, Bluegrass & Country — from 5–7 PM. Whether you’re dining at one of our restaurants\, browsing the shops\, or simply taking in the Pacific views\, it’s the perfect way to wind down your weekend at Del Mar Plaza.
URL:https://delmarplaza.com/event/seaside-sessions-ass-pocket-whiskey-fellas/
LOCATION:Ocean View Deck
CATEGORIES:Music
END:VEVENT
BEGIN:VEVENT
DTSTART;TZID=America/Los_Angeles:20250919T160000
DTEND;TZID=America/Los_Angeles:20250919T190000
DTSTAMP:20260421T054424
CREATED:20250108T190605Z
LAST-MODIFIED:20251208T222234Z
UID:10016144-1758297600-1758308400@delmarplaza.com
SUMMARY:Live Music - Monarch Ocean Pub
DESCRIPTION:Enjoy live music at Monarch Ocean Pub every Wednesday\, Friday and Sunday from 4:00 to 7:00 PM. Don’t miss the perfect blend of great tunes and ocean views.
URL:https://delmarplaza.com/event/live-music-monarch-ocean-pub-2/2025-09-19/
LOCATION:Monarch Ocean Pub\, 1555 Camino Del Mar Suite 322\, Del Mar\, CA\, 92014\, United States
CATEGORIES:Music
END:VEVENT
BEGIN:VEVENT
DTSTART;TZID=America/Los_Angeles:20250918T170000
DTEND;TZID=America/Los_Angeles:20250918T190000
DTSTAMP:20260421T054424
CREATED:20250806T203611Z
LAST-MODIFIED:20250902T201757Z
UID:10018188-1758214800-1758222000@delmarplaza.com
SUMMARY:Seaside Sessions - Whelan
DESCRIPTION:Kick back on our Ocean View Deck and soak in the sounds of Pop from Whelan\, 5–7 PM. Whether you’re dining at one of our restaurants\, browsing the shops\, or simply taking in the Pacific views\, it’s the perfect way to wind down your weekend at Del Mar Plaza.
URL:https://delmarplaza.com/event/seaside-sessions-albert-hurtado/
LOCATION:Ocean View Deck
CATEGORIES:Music
ATTACH;FMTTYPE=image/jpeg:https://delmarplaza.com/wp-content/uploads/2025/08/Whelan-scaled.jpeg
END:VEVENT
BEGIN:VEVENT
DTSTART;TZID=America/Los_Angeles:20250917T160000
DTEND;TZID=America/Los_Angeles:20250917T190000
DTSTAMP:20260421T054424
CREATED:20250108T190605Z
LAST-MODIFIED:20251208T222234Z
UID:10016143-1758124800-1758135600@delmarplaza.com
SUMMARY:Live Music - Monarch Ocean Pub
DESCRIPTION:Enjoy live music at Monarch Ocean Pub every Wednesday\, Friday and Sunday from 4:00 to 7:00 PM. Don’t miss the perfect blend of great tunes and ocean views.
URL:https://delmarplaza.com/event/live-music-monarch-ocean-pub-2/2025-09-17/
LOCATION:Monarch Ocean Pub\, 1555 Camino Del Mar Suite 322\, Del Mar\, CA\, 92014\, United States
CATEGORIES:Music
END:VEVENT
BEGIN:VEVENT
DTSTART;TZID=America/Los_Angeles:20250914T160000
DTEND;TZID=America/Los_Angeles:20250914T190000
DTSTAMP:20260421T054424
CREATED:20250108T190605Z
LAST-MODIFIED:20251208T222234Z
UID:10016142-1757865600-1757876400@delmarplaza.com
SUMMARY:Live Music - Monarch Ocean Pub
DESCRIPTION:Enjoy live music at Monarch Ocean Pub every Wednesday\, Friday and Sunday from 4:00 to 7:00 PM. Don’t miss the perfect blend of great tunes and ocean views.
URL:https://delmarplaza.com/event/live-music-monarch-ocean-pub-2/2025-09-14/
LOCATION:Monarch Ocean Pub\, 1555 Camino Del Mar Suite 322\, Del Mar\, CA\, 92014\, United States
CATEGORIES:Music
END:VEVENT
BEGIN:VEVENT
DTSTART;TZID=America/Los_Angeles:20250913T170000
DTEND;TZID=America/Los_Angeles:20250913T190000
DTSTAMP:20260421T054424
CREATED:20250806T203348Z
LAST-MODIFIED:20250806T203348Z
UID:10018187-1757782800-1757790000@delmarplaza.com
SUMMARY:Seaside Sessions - Novocaine
DESCRIPTION:Kick back on our Ocean View Deck and soak in the SoCal Rock sounds of Novocaine from 5–7 PM. Whether you’re dining at one of our restaurants\, browsing the shops\, or simply taking in the Pacific views\, it’s the perfect way to wind down your weekend at Del Mar Plaza.
URL:https://delmarplaza.com/event/seaside-sessions-novocaine-2/
LOCATION:Ocean View Deck
CATEGORIES:Music
ATTACH;FMTTYPE=image/jpeg:https://delmarplaza.com/wp-content/uploads/2024/07/Novocaine-2.jpeg
END:VEVENT
BEGIN:VEVENT
DTSTART;TZID=America/Los_Angeles:20250912T160000
DTEND;TZID=America/Los_Angeles:20250912T190000
DTSTAMP:20260421T054424
CREATED:20250108T190605Z
LAST-MODIFIED:20251208T222234Z
UID:10016141-1757692800-1757703600@delmarplaza.com
SUMMARY:Live Music - Monarch Ocean Pub
DESCRIPTION:Enjoy live music at Monarch Ocean Pub every Wednesday\, Friday and Sunday from 4:00 to 7:00 PM. Don’t miss the perfect blend of great tunes and ocean views.
URL:https://delmarplaza.com/event/live-music-monarch-ocean-pub-2/2025-09-12/
LOCATION:Monarch Ocean Pub\, 1555 Camino Del Mar Suite 322\, Del Mar\, CA\, 92014\, United States
CATEGORIES:Music
END:VEVENT
BEGIN:VEVENT
DTSTART;TZID=America/Los_Angeles:20250911T170000
DTEND;TZID=America/Los_Angeles:20250911T190000
DTSTAMP:20260421T054424
CREATED:20250806T203148Z
LAST-MODIFIED:20250806T203148Z
UID:10018186-1757610000-1757617200@delmarplaza.com
SUMMARY:Seaside Sessions - Whitney Shay
DESCRIPTION:Kick back on our Ocean View Deck and soak in the sounds of Whitney Shay — blending Blues\, Jazz\, and Soul — from 5–7 PM. Whether you’re dining at one of our restaurants\, browsing the shops\, or simply taking in the Pacific views\, it’s the perfect way to wind down your week at Del Mar Plaza.
URL:https://delmarplaza.com/event/seaside-sessions-whitney-shay/
LOCATION:Ocean View Deck
CATEGORIES:Music
ATTACH;FMTTYPE=image/jpeg:https://delmarplaza.com/wp-content/uploads/2024/08/Whitney-Shay.jpg
END:VEVENT
BEGIN:VEVENT
DTSTART;TZID=America/Los_Angeles:20250910T160000
DTEND;TZID=America/Los_Angeles:20250910T190000
DTSTAMP:20260421T054424
CREATED:20250108T190605Z
LAST-MODIFIED:20251208T222234Z
UID:10016140-1757520000-1757530800@delmarplaza.com
SUMMARY:Live Music - Monarch Ocean Pub
DESCRIPTION:Enjoy live music at Monarch Ocean Pub every Wednesday\, Friday and Sunday from 4:00 to 7:00 PM. Don’t miss the perfect blend of great tunes and ocean views.
URL:https://delmarplaza.com/event/live-music-monarch-ocean-pub-2/2025-09-10/
LOCATION:Monarch Ocean Pub\, 1555 Camino Del Mar Suite 322\, Del Mar\, CA\, 92014\, United States
CATEGORIES:Music
END:VEVENT
BEGIN:VEVENT
DTSTART;TZID=America/Los_Angeles:20250907T160000
DTEND;TZID=America/Los_Angeles:20250907T190000
DTSTAMP:20260421T054424
CREATED:20250108T190605Z
LAST-MODIFIED:20251208T222234Z
UID:10016139-1757260800-1757271600@delmarplaza.com
SUMMARY:Live Music - Monarch Ocean Pub
DESCRIPTION:Enjoy live music at Monarch Ocean Pub every Wednesday\, Friday and Sunday from 4:00 to 7:00 PM. Don’t miss the perfect blend of great tunes and ocean views.
URL:https://delmarplaza.com/event/live-music-monarch-ocean-pub-2/2025-09-07/
LOCATION:Monarch Ocean Pub\, 1555 Camino Del Mar Suite 322\, Del Mar\, CA\, 92014\, United States
CATEGORIES:Music
END:VEVENT
BEGIN:VEVENT
DTSTART;TZID=America/Los_Angeles:20250906T170000
DTEND;TZID=America/Los_Angeles:20250906T190000
DTSTAMP:20260421T054424
CREATED:20250806T202832Z
LAST-MODIFIED:20250829T181326Z
UID:10018185-1757178000-1757185200@delmarplaza.com
SUMMARY:Seaside Sessions - Albert Hurtado
DESCRIPTION:Kick back on our Ocean View Deck and soak in the sounds of Albert Hurtado — blending Jazz & Funk — from 5–7 PM. Whether you’re dining at one of our restaurants\, browsing the shops\, or simply taking in the Pacific views\, it’s the perfect way to wind down your week at Del Mar Plaza.
URL:https://delmarplaza.com/event/seaside-sessions-john-bennett-and-friends/
LOCATION:Ocean View Deck
CATEGORIES:Music
ATTACH;FMTTYPE=image/jpeg:https://delmarplaza.com/wp-content/uploads/2025/08/Albert-Hurtado-scaled.jpeg
END:VEVENT
BEGIN:VEVENT
DTSTART;TZID=America/Los_Angeles:20250905T160000
DTEND;TZID=America/Los_Angeles:20250905T190000
DTSTAMP:20260421T054424
CREATED:20250108T190605Z
LAST-MODIFIED:20251208T222234Z
UID:10016138-1757088000-1757098800@delmarplaza.com
SUMMARY:Live Music - Monarch Ocean Pub
DESCRIPTION:Enjoy live music at Monarch Ocean Pub every Wednesday\, Friday and Sunday from 4:00 to 7:00 PM. Don’t miss the perfect blend of great tunes and ocean views.
URL:https://delmarplaza.com/event/live-music-monarch-ocean-pub-2/2025-09-05/
LOCATION:Monarch Ocean Pub\, 1555 Camino Del Mar Suite 322\, Del Mar\, CA\, 92014\, United States
CATEGORIES:Music
END:VEVENT
BEGIN:VEVENT
DTSTART;TZID=America/Los_Angeles:20250904T170000
DTEND;TZID=America/Los_Angeles:20250904T190000
DTSTAMP:20260421T054424
CREATED:20250806T202530Z
LAST-MODIFIED:20250806T202937Z
UID:10018184-1757005200-1757012400@delmarplaza.com
SUMMARY:Seaside Sessions - Salty Papa
DESCRIPTION:Kick back on our Ocean View Deck and soak in the SoCal sounds of Salty Papa — blending Soul\, R&B\, Jazz\, and Rock — from 5–7 PM. Whether you’re dining at one of our restaurants\, browsing the shops\, or simply taking in the Pacific views\, it’s the perfect way to wind down your week at Del Mar Plaza.
URL:https://delmarplaza.com/event/seaside-sessions-salty-papa/
LOCATION:Ocean View Deck
CATEGORIES:Music
ATTACH;FMTTYPE=image/png:https://delmarplaza.com/wp-content/uploads/2025/08/SALTY-PAPA-scaled.png
END:VEVENT
BEGIN:VEVENT
DTSTART;TZID=America/Los_Angeles:20250903T160000
DTEND;TZID=America/Los_Angeles:20250903T190000
DTSTAMP:20260421T054424
CREATED:20250108T190605Z
LAST-MODIFIED:20251208T222234Z
UID:10016137-1756915200-1756926000@delmarplaza.com
SUMMARY:Live Music - Monarch Ocean Pub
DESCRIPTION:Enjoy live music at Monarch Ocean Pub every Wednesday\, Friday and Sunday from 4:00 to 7:00 PM. Don’t miss the perfect blend of great tunes and ocean views.
URL:https://delmarplaza.com/event/live-music-monarch-ocean-pub-2/2025-09-03/
LOCATION:Monarch Ocean Pub\, 1555 Camino Del Mar Suite 322\, Del Mar\, CA\, 92014\, United States
CATEGORIES:Music
END:VEVENT
BEGIN:VEVENT
DTSTART;TZID=America/Los_Angeles:20250831T160000
DTEND;TZID=America/Los_Angeles:20250831T190000
DTSTAMP:20260421T054424
CREATED:20250108T190605Z
LAST-MODIFIED:20251208T222234Z
UID:10016136-1756656000-1756666800@delmarplaza.com
SUMMARY:Live Music - Monarch Ocean Pub
DESCRIPTION:Enjoy live music at Monarch Ocean Pub every Wednesday\, Friday and Sunday from 4:00 to 7:00 PM. Don’t miss the perfect blend of great tunes and ocean views.
URL:https://delmarplaza.com/event/live-music-monarch-ocean-pub-2/2025-08-31/
LOCATION:Monarch Ocean Pub\, 1555 Camino Del Mar Suite 322\, Del Mar\, CA\, 92014\, United States
CATEGORIES:Music
END:VEVENT
BEGIN:VEVENT
DTSTART;TZID=America/Los_Angeles:20250830T170000
DTEND;TZID=America/Los_Angeles:20250830T190000
DTSTAMP:20260421T054424
CREATED:20250630T172451Z
LAST-MODIFIED:20250630T172512Z
UID:10018007-1756573200-1756580400@delmarplaza.com
SUMMARY:Seaside Sessions: Shams SD
DESCRIPTION:Enjoy free\, live music on our Ocean View Deck from 5 to 7pm!\n\nSoak up the sounds of 80s and 90s Rock Covers as you watch the sunset over the Pacific and dine at one of our award-winning restaurants.
URL:https://delmarplaza.com/event/seaside-sessions-shams-sd/
LOCATION:Ocean View Deck
CATEGORIES:Music
ATTACH;FMTTYPE=image/jpeg:https://delmarplaza.com/wp-content/uploads/2025/06/Shams-SD.jpeg
END:VEVENT
BEGIN:VEVENT
DTSTART;TZID=America/Los_Angeles:20250829T160000
DTEND;TZID=America/Los_Angeles:20250829T190000
DTSTAMP:20260421T054424
CREATED:20250108T190605Z
LAST-MODIFIED:20251208T222234Z
UID:10016135-1756483200-1756494000@delmarplaza.com
SUMMARY:Live Music - Monarch Ocean Pub
DESCRIPTION:Enjoy live music at Monarch Ocean Pub every Wednesday\, Friday and Sunday from 4:00 to 7:00 PM. Don’t miss the perfect blend of great tunes and ocean views.
URL:https://delmarplaza.com/event/live-music-monarch-ocean-pub-2/2025-08-29/
LOCATION:Monarch Ocean Pub\, 1555 Camino Del Mar Suite 322\, Del Mar\, CA\, 92014\, United States
CATEGORIES:Music
END:VEVENT
BEGIN:VEVENT
DTSTART;TZID=America/Los_Angeles:20250828T170000
DTEND;TZID=America/Los_Angeles:20250828T190000
DTSTAMP:20260421T054424
CREATED:20250630T172208Z
LAST-MODIFIED:20250630T172208Z
UID:10018006-1756400400-1756407600@delmarplaza.com
SUMMARY:Seaside Sessions: Emily Afton
DESCRIPTION:Enjoy free\, live music on our Ocean View Deck from 5 to 7pm!\n\nSoak up the sounds of Dance as you watch the sunset over the Pacific and dine at one of our award-winning restaurants.
URL:https://delmarplaza.com/event/seaside-sessions-emily-afton/
LOCATION:Ocean View Deck
CATEGORIES:Music
ATTACH;FMTTYPE=image/jpeg:https://delmarplaza.com/wp-content/uploads/2024/07/Emily-Afton.jpeg
END:VEVENT
BEGIN:VEVENT
DTSTART;TZID=America/Los_Angeles:20250827T160000
DTEND;TZID=America/Los_Angeles:20250827T190000
DTSTAMP:20260421T054424
CREATED:20250108T190605Z
LAST-MODIFIED:20251208T222234Z
UID:10016134-1756310400-1756321200@delmarplaza.com
SUMMARY:Live Music - Monarch Ocean Pub
DESCRIPTION:Enjoy live music at Monarch Ocean Pub every Wednesday\, Friday and Sunday from 4:00 to 7:00 PM. Don’t miss the perfect blend of great tunes and ocean views.
URL:https://delmarplaza.com/event/live-music-monarch-ocean-pub-2/2025-08-27/
LOCATION:Monarch Ocean Pub\, 1555 Camino Del Mar Suite 322\, Del Mar\, CA\, 92014\, United States
CATEGORIES:Music
END:VEVENT
BEGIN:VEVENT
DTSTART;TZID=America/Los_Angeles:20250824T160000
DTEND;TZID=America/Los_Angeles:20250824T190000
DTSTAMP:20260421T054424
CREATED:20250108T190605Z
LAST-MODIFIED:20251208T222234Z
UID:10016133-1756051200-1756062000@delmarplaza.com
SUMMARY:Live Music - Monarch Ocean Pub
DESCRIPTION:Enjoy live music at Monarch Ocean Pub every Wednesday\, Friday and Sunday from 4:00 to 7:00 PM. Don’t miss the perfect blend of great tunes and ocean views.
URL:https://delmarplaza.com/event/live-music-monarch-ocean-pub-2/2025-08-24/
LOCATION:Monarch Ocean Pub\, 1555 Camino Del Mar Suite 322\, Del Mar\, CA\, 92014\, United States
CATEGORIES:Music
END:VEVENT
BEGIN:VEVENT
DTSTART;TZID=America/Los_Angeles:20250823T170000
DTEND;TZID=America/Los_Angeles:20250823T190000
DTSTAMP:20260421T054424
CREATED:20250630T172021Z
LAST-MODIFIED:20250630T172021Z
UID:10018005-1755968400-1755975600@delmarplaza.com
SUMMARY:Seaside Sessions: Maka Melody
DESCRIPTION:Enjoy free\, live music on our Ocean View Deck from 5 to 7pm!\n\nSoak up the sounds of Reggae as you watch the sunset over the Pacific and dine at one of our award-winning restaurants.
URL:https://delmarplaza.com/event/seaside-sessions-maka-melody-2/
LOCATION:Ocean View Deck
CATEGORIES:Music
ATTACH;FMTTYPE=image/jpeg:https://delmarplaza.com/wp-content/uploads/2021/09/Maka-Melody.jpeg
END:VEVENT
BEGIN:VEVENT
DTSTART;TZID=America/Los_Angeles:20250822T160000
DTEND;TZID=America/Los_Angeles:20250822T190000
DTSTAMP:20260421T054424
CREATED:20250108T190605Z
LAST-MODIFIED:20251208T222234Z
UID:10016132-1755878400-1755889200@delmarplaza.com
SUMMARY:Live Music - Monarch Ocean Pub
DESCRIPTION:Enjoy live music at Monarch Ocean Pub every Wednesday\, Friday and Sunday from 4:00 to 7:00 PM. Don’t miss the perfect blend of great tunes and ocean views.
URL:https://delmarplaza.com/event/live-music-monarch-ocean-pub-2/2025-08-22/
LOCATION:Monarch Ocean Pub\, 1555 Camino Del Mar Suite 322\, Del Mar\, CA\, 92014\, United States
CATEGORIES:Music
END:VEVENT
BEGIN:VEVENT
DTSTART;TZID=America/Los_Angeles:20250821T170000
DTEND;TZID=America/Los_Angeles:20250821T190000
DTSTAMP:20260421T054424
CREATED:20250630T171731Z
LAST-MODIFIED:20250630T171731Z
UID:10018004-1755795600-1755802800@delmarplaza.com
SUMMARY:Seaside Sessions: Mango Bay Band
DESCRIPTION:Enjoy free\, live music on our Ocean View Deck from 5 to 7pm!\n\nSoak up the sounds of Classic Rock as you watch the sunset over the Pacific and dine at one of our award-winning restaurants.
URL:https://delmarplaza.com/event/seaside-sessions-mango-bay-band/
LOCATION:Ocean View Deck
CATEGORIES:Music
ATTACH;FMTTYPE=image/jpeg:https://delmarplaza.com/wp-content/uploads/2025/06/MangoBay-at-Del-Mar-Plaza-2020.jpg
END:VEVENT
BEGIN:VEVENT
DTSTART;TZID=America/Los_Angeles:20250820T160000
DTEND;TZID=America/Los_Angeles:20250820T190000
DTSTAMP:20260421T054424
CREATED:20250108T190605Z
LAST-MODIFIED:20251208T222234Z
UID:10016131-1755705600-1755716400@delmarplaza.com
SUMMARY:Live Music - Monarch Ocean Pub
DESCRIPTION:Enjoy live music at Monarch Ocean Pub every Wednesday\, Friday and Sunday from 4:00 to 7:00 PM. Don’t miss the perfect blend of great tunes and ocean views.
URL:https://delmarplaza.com/event/live-music-monarch-ocean-pub-2/2025-08-20/
LOCATION:Monarch Ocean Pub\, 1555 Camino Del Mar Suite 322\, Del Mar\, CA\, 92014\, United States
CATEGORIES:Music
END:VEVENT
END:VCALENDAR