BEGIN:VCALENDAR
VERSION:2.0
PRODID:-//Del Mar Plaza - ECPv6.7.0//NONSGML v1.0//EN
CALSCALE:GREGORIAN
METHOD:PUBLISH
X-ORIGINAL-URL:https://delmarplaza.com
X-WR-CALDESC:Events for Del Mar Plaza
REFRESH-INTERVAL;VALUE=DURATION:PT1H
X-Robots-Tag:noindex
X-PUBLISHED-TTL:PT1H
BEGIN:VTIMEZONE
TZID:America/Los_Angeles
BEGIN:DAYLIGHT
TZOFFSETFROM:-0800
TZOFFSETTO:-0700
TZNAME:PDT
DTSTART:20260308T100000
END:DAYLIGHT
BEGIN:STANDARD
TZOFFSETFROM:-0700
TZOFFSETTO:-0800
TZNAME:PST
DTSTART:20261101T090000
END:STANDARD
END:VTIMEZONE
BEGIN:VEVENT
DTSTART;TZID=America/Los_Angeles:20260419T160000
DTEND;TZID=America/Los_Angeles:20260419T190000
DTSTAMP:20260422T061159
CREATED:20260225T015601Z
LAST-MODIFIED:20260318T192050Z
UID:10022494-1776614400-1776625200@delmarplaza.com
SUMMARY:Live Music - Monarch Ocean Pub - Lee Melton
DESCRIPTION:Kick back at Monarch Ocean Pub and soak in the sounds of Lee Melton on 4/19 \nCan’t make it? Enjoy live music at Monarch Ocean Pub every Wednesday\, Friday and Sunday from 4:00 to 7:00 PM. Don’t miss the perfect blend of great tunes and ocean views.
URL:https://delmarplaza.com/event/live-music-monarch-ocean-pub-4-19-26/
LOCATION:Monarch Ocean Pub\, 1555 Camino Del Mar Suite 322\, Del Mar\, CA\, 92014\, United States
CATEGORIES:Music
END:VEVENT
BEGIN:VEVENT
DTSTART;TZID=America/Los_Angeles:20260418T170000
DTEND;TZID=America/Los_Angeles:20260418T190000
DTSTAMP:20260422T061159
CREATED:20260313T185515Z
LAST-MODIFIED:20260313T185625Z
UID:10022507-1776531600-1776538800@delmarplaza.com
SUMMARY:Seaside Sessions - Albert Hurtado
DESCRIPTION:Kick back on our Ocean View Deck and soak in the sounds of Albert Hurtado — blending Jazz\, Blues\, Pop music — from 5–7 PM. Whether you’re dining at one of our restaurants\, browsing the shops\, or simply taking in the Pacific views\, it’s the perfect way to wind down your week at Del Mar Plaza.
URL:https://delmarplaza.com/event/albert-hurtado/
LOCATION:Ocean View Deck
CATEGORIES:Music
ATTACH;FMTTYPE=image/jpeg:https://delmarplaza.com/wp-content/uploads/2026/03/Albert-Hurtado-scaled.jpeg
END:VEVENT
BEGIN:VEVENT
DTSTART;TZID=America/Los_Angeles:20260417T160000
DTEND;TZID=America/Los_Angeles:20260417T190000
DTSTAMP:20260422T061159
CREATED:20260225T015514Z
LAST-MODIFIED:20260318T192126Z
UID:10022493-1776441600-1776452400@delmarplaza.com
SUMMARY:Live Music - Monarch Ocean Pub - Christian Taylor
DESCRIPTION:Kick back at Monarch Ocean Pub and soak in the sounds of Christian Taylor on 4/17 \nCan’t make it? Enjoy live music at Monarch Ocean Pub every Wednesday\, Friday and Sunday from 4:00 to 7:00 PM. Don’t miss the perfect blend of great tunes and ocean views.
URL:https://delmarplaza.com/event/live-music-monarch-ocean-pub-4-17-26/
LOCATION:Monarch Ocean Pub\, 1555 Camino Del Mar Suite 322\, Del Mar\, CA\, 92014\, United States
CATEGORIES:Music
END:VEVENT
BEGIN:VEVENT
DTSTART;TZID=America/Los_Angeles:20260416T170000
DTEND;TZID=America/Los_Angeles:20260416T190000
DTSTAMP:20260422T061159
CREATED:20260313T185353Z
LAST-MODIFIED:20260330T220646Z
UID:10022506-1776358800-1776366000@delmarplaza.com
SUMMARY:Seaside Sessions - Ben Powell
DESCRIPTION:Kick back on our Ocean View Deck and soak in the sounds of Ben Powell— a solo songwriter\, guitar\, vocalist musician — from 5–7 PM. Whether you’re dining at one of our restaurants\, browsing the shops\, or simply taking in the Pacific views\, it’s the perfect way to wind down your week at Del Mar Plaza.
URL:https://delmarplaza.com/event/ben-powell/
LOCATION:Ocean View Deck
CATEGORIES:Music
ATTACH;FMTTYPE=image/jpeg:https://delmarplaza.com/wp-content/uploads/2026/03/Ben-Powell.jpeg
END:VEVENT
BEGIN:VEVENT
DTSTART;TZID=America/Los_Angeles:20260415T160000
DTEND;TZID=America/Los_Angeles:20260415T190000
DTSTAMP:20260422T061159
CREATED:20260225T015343Z
LAST-MODIFIED:20260318T192147Z
UID:10022492-1776268800-1776279600@delmarplaza.com
SUMMARY:Live Music - Monarch Ocean Pub - Ben Benavente
DESCRIPTION:Kick back at Monarch Ocean Pub and soak in the sounds of Ben Benavente on 4/15 \nCan’t make it? Enjoy live music at Monarch Ocean Pub every Wednesday\, Friday and Sunday from 4:00 to 7:00 PM. Don’t miss the perfect blend of great tunes and ocean views.
URL:https://delmarplaza.com/event/live-music-monarch-ocean-pub-4-15-26/
LOCATION:Monarch Ocean Pub\, 1555 Camino Del Mar Suite 322\, Del Mar\, CA\, 92014\, United States
CATEGORIES:Music
END:VEVENT
BEGIN:VEVENT
DTSTART;TZID=America/Los_Angeles:20260412T160000
DTEND;TZID=America/Los_Angeles:20260412T190000
DTSTAMP:20260422T061159
CREATED:20260225T015233Z
LAST-MODIFIED:20260318T192205Z
UID:10022490-1776009600-1776020400@delmarplaza.com
SUMMARY:Live Music - Monarch Ocean Pub - Lee Melton
DESCRIPTION:Kick back at Monarch Ocean Pub and soak in the sounds of Lee Melton on 4/12 \nCan’t make it? Enjoy live music at Monarch Ocean Pub every Wednesday\, Friday and Sunday from 4:00 to 7:00 PM. Don’t miss the perfect blend of great tunes and ocean views.
URL:https://delmarplaza.com/event/live-music-monarch-ocean-pub-4-12-26/
LOCATION:Monarch Ocean Pub\, 1555 Camino Del Mar Suite 322\, Del Mar\, CA\, 92014\, United States
CATEGORIES:Music
END:VEVENT
BEGIN:VEVENT
DTSTART;TZID=America/Los_Angeles:20260411T170000
DTEND;TZID=America/Los_Angeles:20260411T190000
DTSTAMP:20260422T061159
CREATED:20260313T185217Z
LAST-MODIFIED:20260313T185321Z
UID:10022505-1775926800-1775934000@delmarplaza.com
SUMMARY:Seaside Sessions - Cappo Kelley
DESCRIPTION:Kick back on our Ocean View Deck and soak in the sounds of Cappo Kelley — blending Reggae\, Lovers Rock music — from 5–7 PM. Whether you’re dining at one of our restaurants\, browsing the shops\, or simply taking in the Pacific views\, it’s the perfect way to wind down your week at Del Mar Plaza.
URL:https://delmarplaza.com/event/cappo-kelley/
LOCATION:Ocean View Deck
CATEGORIES:Music
ATTACH;FMTTYPE=image/jpeg:https://delmarplaza.com/wp-content/uploads/2026/03/Cappo-Kelley-pic.jpeg
END:VEVENT
BEGIN:VEVENT
DTSTART;TZID=America/Los_Angeles:20260409T170000
DTEND;TZID=America/Los_Angeles:20260409T190000
DTSTAMP:20260422T061159
CREATED:20260313T185033Z
LAST-MODIFIED:20260313T185457Z
UID:10022504-1775754000-1775761200@delmarplaza.com
SUMMARY:Seaside Sessions -  Fernando Noronha
DESCRIPTION:Kick back on our Ocean View Deck and soak in the sounds of Fernando Noronha — a duo blending Blues & Jazz Guitar music — from 5–7 PM. Whether you’re dining at one of our restaurants\, browsing the shops\, or simply taking in the Pacific views\, it’s the perfect way to wind down your week at Del Mar Plaza.
URL:https://delmarplaza.com/event/fernando-noronha/
LOCATION:Ocean View Deck
CATEGORIES:Music
ATTACH;FMTTYPE=image/jpeg:https://delmarplaza.com/wp-content/uploads/2026/03/Fernando-Noronha-1.jpeg
END:VEVENT
BEGIN:VEVENT
DTSTART;TZID=America/Los_Angeles:20260408T160000
DTEND;TZID=America/Los_Angeles:20260408T190000
DTSTAMP:20260422T061159
CREATED:20260225T015149Z
LAST-MODIFIED:20260318T192228Z
UID:10022489-1775664000-1775674800@delmarplaza.com
SUMMARY:Live Music - Monarch Ocean Pub - Ben Benavente
DESCRIPTION:Kick back at Monarch Ocean Pub and soak in the sounds of Ben Benavente on 4/08 \nCan’t make it? Enjoy live music at Monarch Ocean Pub every Wednesday\, Friday and Sunday from 4:00 to 7:00 PM. Don’t miss the perfect blend of great tunes and ocean views.
URL:https://delmarplaza.com/event/live-music-monarch-ocean-pub-4-08-26/
LOCATION:Monarch Ocean Pub\, 1555 Camino Del Mar Suite 322\, Del Mar\, CA\, 92014\, United States
CATEGORIES:Music
END:VEVENT
BEGIN:VEVENT
DTSTART;TZID=America/Los_Angeles:20260405T160000
DTEND;TZID=America/Los_Angeles:20260405T190000
DTSTAMP:20260422T061159
CREATED:20260225T015104Z
LAST-MODIFIED:20260318T192243Z
UID:10022488-1775404800-1775415600@delmarplaza.com
SUMMARY:Live Music - Monarch Ocean Pub -Lee Melton
DESCRIPTION:Kick back at Monarch Ocean Pub and soak in the sounds of Lee Melton on 4/05 \nCan’t make it? Enjoy live music at Monarch Ocean Pub every Wednesday\, Friday and Sunday from 4:00 to 7:00 PM. Don’t miss the perfect blend of great tunes and ocean views.
URL:https://delmarplaza.com/event/live-music-monarch-ocean-pub-4-05-26/
LOCATION:Monarch Ocean Pub\, 1555 Camino Del Mar Suite 322\, Del Mar\, CA\, 92014\, United States
CATEGORIES:Music
END:VEVENT
BEGIN:VEVENT
DTSTART;TZID=America/Los_Angeles:20260404T170000
DTEND;TZID=America/Los_Angeles:20260404T190000
DTSTAMP:20260422T061159
CREATED:20260313T184833Z
LAST-MODIFIED:20260313T185007Z
UID:10022503-1775322000-1775329200@delmarplaza.com
SUMMARY:Seaside Sessions -  The Juke$
DESCRIPTION:Kick back on our Ocean View Deck and soak in the sounds of The Juke$ — blending Swing & Blues music — from 5–7 PM. Whether you’re dining at one of our restaurants\, browsing the shops\, or simply taking in the Pacific views\, it’s the perfect way to wind down your week at Del Mar Plaza.
URL:https://delmarplaza.com/event/the-juke/
LOCATION:Ocean View Deck
CATEGORIES:Music
ATTACH;FMTTYPE=image/jpeg:https://delmarplaza.com/wp-content/uploads/2026/03/The-Juke.jpg
END:VEVENT
BEGIN:VEVENT
DTSTART;TZID=America/Los_Angeles:20260403T160000
DTEND;TZID=America/Los_Angeles:20260403T190000
DTSTAMP:20260422T061159
CREATED:20260225T015012Z
LAST-MODIFIED:20260318T192258Z
UID:10022487-1775232000-1775242800@delmarplaza.com
SUMMARY:Live Music - Monarch Ocean Pub - Christian Taylor
DESCRIPTION:Kick back at Monarch Ocean Pub and soak in the sounds of Christian Taylor on 4/03 \nCan’t make it? Enjoy live music at Monarch Ocean Pub every Wednesday\, Friday and Sunday from 4:00 to 7:00 PM. Don’t miss the perfect blend of great tunes and ocean views.
URL:https://delmarplaza.com/event/live-music-monarch-ocean-pub-4-03-26/
LOCATION:Monarch Ocean Pub\, 1555 Camino Del Mar Suite 322\, Del Mar\, CA\, 92014\, United States
CATEGORIES:Music
END:VEVENT
BEGIN:VEVENT
DTSTART;TZID=America/Los_Angeles:20260402T170000
DTEND;TZID=America/Los_Angeles:20260402T190000
DTSTAMP:20260422T061159
CREATED:20260331T220137Z
LAST-MODIFIED:20260331T220317Z
UID:10022511-1775149200-1775156400@delmarplaza.com
SUMMARY:Seaside Sessions - Landen Tusi
DESCRIPTION:Kick back on our Ocean View Deck and soak in the sounds of Landen Tusi —playing country music — from 5–7 PM. Whether you’re dining at one of our restaurants\, browsing the shops\, or simply taking in the Pacific views\, it’s the perfect way to wind down your week at Del Mar Plaza.
URL:https://delmarplaza.com/event/landen-tusi/
LOCATION:Ocean View Deck
CATEGORIES:Music
ATTACH;FMTTYPE=image/jpeg:https://delmarplaza.com/wp-content/uploads/2026/03/Landen-Tusi-scaled.jpg
END:VEVENT
BEGIN:VEVENT
DTSTART;TZID=America/Los_Angeles:20260401T160000
DTEND;TZID=America/Los_Angeles:20260401T190000
DTSTAMP:20260422T061159
CREATED:20260225T014920Z
LAST-MODIFIED:20260318T192316Z
UID:10022486-1775059200-1775070000@delmarplaza.com
SUMMARY:Live Music - Monarch Ocean Pub - Ben Benavente
DESCRIPTION:Kick back at Monarch Ocean Pub and soak in the sounds of Ben Benavente on 4/01 \nCan’t make it? Enjoy live music at Monarch Ocean Pub every Wednesday\, Friday and Sunday from 4:00 to 7:00 PM. Don’t miss the perfect blend of great tunes and ocean views.
URL:https://delmarplaza.com/event/live-music-monarch-ocean-pub-4-01-26/
LOCATION:Monarch Ocean Pub\, 1555 Camino Del Mar Suite 322\, Del Mar\, CA\, 92014\, United States
CATEGORIES:Music
END:VEVENT
BEGIN:VEVENT
DTSTART;TZID=America/Los_Angeles:20260329T160000
DTEND;TZID=America/Los_Angeles:20260329T190000
DTSTAMP:20260422T061159
CREATED:20260225T014705Z
LAST-MODIFIED:20260318T192327Z
UID:10022485-1774800000-1774810800@delmarplaza.com
SUMMARY:Live Music - Monarch Ocean Pub - Lee Melton
DESCRIPTION:Kick back at Monarch Ocean Pub and soak in the sounds of Lee Melton on 3/29 \nCan’t make it? Enjoy live music at Monarch Ocean Pub every Wednesday\, Friday and Sunday from 4:00 to 7:00 PM. Don’t miss the perfect blend of great tunes and ocean views.
URL:https://delmarplaza.com/event/live-music-monarch-ocean-pub-3-29-26/
LOCATION:Monarch Ocean Pub\, 1555 Camino Del Mar Suite 322\, Del Mar\, CA\, 92014\, United States
CATEGORIES:Music
END:VEVENT
BEGIN:VEVENT
DTSTART;TZID=America/Los_Angeles:20260328T170000
DTEND;TZID=America/Los_Angeles:20260328T190000
DTSTAMP:20260422T061159
CREATED:20260204T194503Z
LAST-MODIFIED:20260213T181847Z
UID:10022472-1774717200-1774724400@delmarplaza.com
SUMMARY:Seaside Sessions -  Casey Turner
DESCRIPTION:Kick back on our Ocean View Deck and soak in the sounds of Casey Turner  — blending Island Reggae Vibes music — from 5–7 PM. Whether you’re dining at one of our restaurants\, browsing the shops\, or simply taking in the Pacific views\, it’s the perfect way to wind down your week at Del Mar Plaza.
URL:https://delmarplaza.com/event/casey-turner/
LOCATION:Ocean View Deck
CATEGORIES:Music
ATTACH;FMTTYPE=image/jpeg:https://delmarplaza.com/wp-content/uploads/2026/02/Casey-Turner.jpg
END:VEVENT
BEGIN:VEVENT
DTSTART;TZID=America/Los_Angeles:20260327T160000
DTEND;TZID=America/Los_Angeles:20260327T190000
DTSTAMP:20260422T061159
CREATED:20260225T014627Z
LAST-MODIFIED:20260318T192339Z
UID:10022483-1774627200-1774638000@delmarplaza.com
SUMMARY:Live Music - Monarch Ocean Pub - Christian Taylor
DESCRIPTION:Kick back at Monarch Ocean Pub and soak in the sounds of Christian Taylor on 3/27 \nCan’t make it? Enjoy live music at Monarch Ocean Pub every Wednesday\, Friday and Sunday from 4:00 to 7:00 PM. Don’t miss the perfect blend of great tunes and ocean views.
URL:https://delmarplaza.com/event/live-music-monarch-ocean-pub-3-27-26/
LOCATION:Monarch Ocean Pub\, 1555 Camino Del Mar Suite 322\, Del Mar\, CA\, 92014\, United States
CATEGORIES:Music
END:VEVENT
BEGIN:VEVENT
DTSTART;TZID=America/Los_Angeles:20260326T170000
DTEND;TZID=America/Los_Angeles:20260326T190000
DTSTAMP:20260422T061159
CREATED:20260204T194322Z
LAST-MODIFIED:20260204T194426Z
UID:10022471-1774544400-1774551600@delmarplaza.com
SUMMARY:Seaside Sessions -  The Heart
DESCRIPTION:Kick back on our Ocean View Deck and soak in the sounds of The Heart  — blending Upbeat feel good acoustic music — from 5–7 PM. Whether you’re dining at one of our restaurants\, browsing the shops\, or simply taking in the Pacific views\, it’s the perfect way to wind down your week at Del Mar Plaza.
URL:https://delmarplaza.com/event/the-heart/
LOCATION:Ocean View Deck
CATEGORIES:Music
ATTACH;FMTTYPE=image/jpeg:https://delmarplaza.com/wp-content/uploads/2026/02/The-Heart1.jpeg
END:VEVENT
BEGIN:VEVENT
DTSTART;TZID=America/Los_Angeles:20260325T160000
DTEND;TZID=America/Los_Angeles:20260325T190000
DTSTAMP:20260422T061159
CREATED:20260225T014430Z
LAST-MODIFIED:20260318T192349Z
UID:10022482-1774454400-1774465200@delmarplaza.com
SUMMARY:Live Music - Monarch Ocean Pub - Ben Benavente
DESCRIPTION:Kick back at Monarch Ocean Pub and soak in the sounds of Ben Benavente on 3/25 \nCan’t make it? Enjoy live music at Monarch Ocean Pub every Wednesday\, Friday and Sunday from 4:00 to 7:00 PM. Don’t miss the perfect blend of great tunes and ocean views.
URL:https://delmarplaza.com/event/live-music-monarch-ocean-pub-3-25-26/
LOCATION:Monarch Ocean Pub\, 1555 Camino Del Mar Suite 322\, Del Mar\, CA\, 92014\, United States
CATEGORIES:Music
END:VEVENT
BEGIN:VEVENT
DTSTART;TZID=America/Los_Angeles:20260322T160000
DTEND;TZID=America/Los_Angeles:20260322T190000
DTSTAMP:20260422T061159
CREATED:20260225T014250Z
LAST-MODIFIED:20260318T192402Z
UID:10022480-1774195200-1774206000@delmarplaza.com
SUMMARY:Live Music - Monarch Ocean Pub - Lee Melton
DESCRIPTION:Kick back at Monarch Ocean Pub and soak in the sounds of Lee Melton on 3/22 \nCan’t make it? Enjoy live music at Monarch Ocean Pub every Wednesday\, Friday and Sunday from 4:00 to 7:00 PM. Don’t miss the perfect blend of great tunes and ocean views.
URL:https://delmarplaza.com/event/live-music-monarch-ocean-pub-3-22-26/
LOCATION:Monarch Ocean Pub\, 1555 Camino Del Mar Suite 322\, Del Mar\, CA\, 92014\, United States
CATEGORIES:Music
END:VEVENT
BEGIN:VEVENT
DTSTART;TZID=America/Los_Angeles:20260321T170000
DTEND;TZID=America/Los_Angeles:20260321T190000
DTSTAMP:20260422T061159
CREATED:20260204T193937Z
LAST-MODIFIED:20260213T181730Z
UID:10022470-1774112400-1774119600@delmarplaza.com
SUMMARY:Seaside Sessions -  Wilfax
DESCRIPTION:Kick back on our Ocean View Deck and soak in the sounds of Wilfax  — blending Rock\, Jazz\, Blues\, Folk guitar — from 5–7 PM. Whether you’re dining at one of our restaurants\, browsing the shops\, or simply taking in the Pacific views\, it’s the perfect way to wind down your week at Del Mar Plaza.
URL:https://delmarplaza.com/event/wilfax/
LOCATION:Ocean View Deck
CATEGORIES:Music
ATTACH;FMTTYPE=image/jpeg:https://delmarplaza.com/wp-content/uploads/2026/02/Wilfax2-scaled.jpg
END:VEVENT
BEGIN:VEVENT
DTSTART;TZID=America/Los_Angeles:20260320T160000
DTEND;TZID=America/Los_Angeles:20260320T190000
DTSTAMP:20260422T061159
CREATED:20260225T014207Z
LAST-MODIFIED:20260318T192415Z
UID:10022478-1774022400-1774033200@delmarplaza.com
SUMMARY:Live Music - Monarch Ocean Pub - Jehua Evans
DESCRIPTION:Kick back at Monarch Ocean Pub and soak in the sounds of Jehua Evans on 3/20 \nCan’t make it? Enjoy live music at Monarch Ocean Pub every Wednesday\, Friday and Sunday from 4:00 to 7:00 PM. Don’t miss the perfect blend of great tunes and ocean views.
URL:https://delmarplaza.com/event/live-music-monarch-ocean-pub-3-20-26/
LOCATION:Monarch Ocean Pub\, 1555 Camino Del Mar Suite 322\, Del Mar\, CA\, 92014\, United States
CATEGORIES:Music
END:VEVENT
BEGIN:VEVENT
DTSTART;TZID=America/Los_Angeles:20260319T170000
DTEND;TZID=America/Los_Angeles:20260319T190000
DTSTAMP:20260422T061159
CREATED:20260204T193812Z
LAST-MODIFIED:20260204T194300Z
UID:10022469-1773939600-1773946800@delmarplaza.com
SUMMARY:Seaside Sessions -  Jesse London
DESCRIPTION:Kick back on our Ocean View Deck and soak in the sounds of Jesse London  — blending Classic Rock\, and Acoustic guitar — from 5–7 PM. Whether you’re dining at one of our restaurants\, browsing the shops\, or simply taking in the Pacific views\, it’s the perfect way to wind down your week at Del Mar Plaza.
URL:https://delmarplaza.com/event/jesse-london/
LOCATION:Ocean View Deck
CATEGORIES:Music
ATTACH;FMTTYPE=image/jpeg:https://delmarplaza.com/wp-content/uploads/2026/02/Jesse-London-1.jpg
END:VEVENT
BEGIN:VEVENT
DTSTART;TZID=America/Los_Angeles:20260318T160000
DTEND;TZID=America/Los_Angeles:20260318T190000
DTSTAMP:20260422T061159
CREATED:20260225T013942Z
LAST-MODIFIED:20260225T014200Z
UID:10022477-1773849600-1773860400@delmarplaza.com
SUMMARY:Live Music - Monarch Ocean Pub
DESCRIPTION:Kick back at Monarch Ocean Pub and soak in the sounds of Ben Benavente on 3/18 \nCan’t make it? Enjoy live music at Monarch Ocean Pub every Wednesday\, Friday and Sunday from 4:00 to 7:00 PM. Don’t miss the perfect blend of great tunes and ocean views.
URL:https://delmarplaza.com/event/live-music-monarch-ocean-pub-3-18-26/
LOCATION:Monarch Ocean Pub\, 1555 Camino Del Mar Suite 322\, Del Mar\, CA\, 92014\, United States
CATEGORIES:Music
END:VEVENT
BEGIN:VEVENT
DTSTART;TZID=America/Los_Angeles:20260315T160000
DTEND;TZID=America/Los_Angeles:20260315T190000
DTSTAMP:20260422T061159
CREATED:20260112T193203Z
LAST-MODIFIED:20260225T013556Z
UID:10016217-1773590400-1773601200@delmarplaza.com
SUMMARY:Live Music - Monarch Ocean Pub
DESCRIPTION:Kick back at Monarch Ocean Pub and soak in the sounds of Lee Melton on 3/15 \nCan’t make it? Enjoy live music at Monarch Ocean Pub every Wednesday\, Friday and Sunday from 4:00 to 7:00 PM. Don’t miss the perfect blend of great tunes and ocean views.
URL:https://delmarplaza.com/event/live-music-monarch-ocean-pub-3-15-26/
LOCATION:Monarch Ocean Pub\, 1555 Camino Del Mar Suite 322\, Del Mar\, CA\, 92014\, United States
CATEGORIES:Music
END:VEVENT
BEGIN:VEVENT
DTSTART;TZID=America/Los_Angeles:20260314T170000
DTEND;TZID=America/Los_Angeles:20260314T190000
DTSTAMP:20260422T061159
CREATED:20260204T193643Z
LAST-MODIFIED:20260204T193753Z
UID:10022468-1773507600-1773514800@delmarplaza.com
SUMMARY:Seaside Sessions -  Keefer & Rob
DESCRIPTION:Kick back on our Ocean View Deck and soak in the sounds of Keefer & Rob  — blending Classic Rock\, Acoustic — from 5–7 PM. Whether you’re dining at one of our restaurants\, browsing the shops\, or simply taking in the Pacific views\, it’s the perfect way to wind down your week at Del Mar Plaza.
URL:https://delmarplaza.com/event/keefer-rob/
LOCATION:Ocean View Deck
CATEGORIES:Music
ATTACH;FMTTYPE=image/jpeg:https://delmarplaza.com/wp-content/uploads/2026/02/Keefer-Rob.jpeg
END:VEVENT
BEGIN:VEVENT
DTSTART;TZID=America/Los_Angeles:20260313T160000
DTEND;TZID=America/Los_Angeles:20260313T190000
DTSTAMP:20260422T061159
CREATED:20260225T013603Z
LAST-MODIFIED:20260225T013913Z
UID:10022476-1773417600-1773428400@delmarplaza.com
SUMMARY:Live Music - Monarch Ocean Pub Copy
DESCRIPTION:Kick back at Monarch Ocean Pub and soak in the sounds of Jehua Evans on 3/13 \nCan’t make it? Enjoy live music at Monarch Ocean Pub every Wednesday\, Friday and Sunday from 4:00 to 7:00 PM. Don’t miss the perfect blend of great tunes and ocean views.
URL:https://delmarplaza.com/event/live-music-monarch-ocean-pub-3-13-26/
LOCATION:Monarch Ocean Pub\, 1555 Camino Del Mar Suite 322\, Del Mar\, CA\, 92014\, United States
CATEGORIES:Music
END:VEVENT
BEGIN:VEVENT
DTSTART;TZID=America/Los_Angeles:20260312T170000
DTEND;TZID=America/Los_Angeles:20260312T190000
DTSTAMP:20260422T061159
CREATED:20260204T193128Z
LAST-MODIFIED:20260204T193628Z
UID:10022467-1773334800-1773342000@delmarplaza.com
SUMMARY:Seaside Sessions -  John Bennett duo
DESCRIPTION:Kick back on our Ocean View Deck and soak in the sounds of John Bennett duo  — blending Classic Rock\, Blues\, and Acoustic— from 5–7 PM. Whether you’re dining at one of our restaurants\, browsing the shops\, or simply taking in the Pacific views\, it’s the perfect way to wind down your week at Del Mar Plaza.
URL:https://delmarplaza.com/event/john-bennett-duo/
LOCATION:Ocean View Deck
CATEGORIES:Music
ATTACH;FMTTYPE=image/jpeg:https://delmarplaza.com/wp-content/uploads/2026/02/John-Bennett.jpeg
END:VEVENT
BEGIN:VEVENT
DTSTART;TZID=America/Los_Angeles:20260311T160000
DTEND;TZID=America/Los_Angeles:20260311T190000
DTSTAMP:20260422T061159
CREATED:20260225T013527Z
LAST-MODIFIED:20260318T191851Z
UID:10022475-1773244800-1773255600@delmarplaza.com
SUMMARY:Live Music - Monarch Ocean Pub - Ben Benavente
DESCRIPTION:Kick back at Monarch Ocean Pub and soak in the sounds of Ben Benavente on 3/13 \nCan’t make it? Enjoy live music at Monarch Ocean Pub every Wednesday\, Friday and Sunday from 4:00 to 7:00 PM. Don’t miss the perfect blend of great tunes and ocean views.
URL:https://delmarplaza.com/event/live-music-monarch-ocean-pub-3-11-26/
LOCATION:Monarch Ocean Pub\, 1555 Camino Del Mar Suite 322\, Del Mar\, CA\, 92014\, United States
CATEGORIES:Music
END:VEVENT
BEGIN:VEVENT
DTSTART;TZID=America/Los_Angeles:20260307T150000
DTEND;TZID=America/Los_Angeles:20260307T180000
DTSTAMP:20260422T061159
CREATED:20260112T193228Z
LAST-MODIFIED:20260112T193302Z
UID:10022241-1772895600-1772906400@delmarplaza.com
SUMMARY:Live Music - Monarch Ocean Pub
DESCRIPTION:Kick back at Monarch Ocean Pub and soak in the sounds of Christian Taylor on 3/07 \nCan’t make it? Enjoy live music at Monarch Ocean Pub every Wednesday\, Friday and Sunday from 3:00 to 6:00 PM. Don’t miss the perfect blend of great tunes and ocean views.
URL:https://delmarplaza.com/event/live-music-monarch-ocean-pub-3-07/
LOCATION:Monarch Ocean Pub\, 1555 Camino Del Mar Suite 322\, Del Mar\, CA\, 92014\, United States
CATEGORIES:Music
END:VEVENT
END:VCALENDAR