BEGIN:VCALENDAR
VERSION:2.0
PRODID:-//Del Mar Plaza - ECPv6.7.0//NONSGML v1.0//EN
CALSCALE:GREGORIAN
METHOD:PUBLISH
X-WR-CALNAME:Del Mar Plaza
X-ORIGINAL-URL:https://delmarplaza.com
X-WR-CALDESC:Events for Del Mar Plaza
REFRESH-INTERVAL;VALUE=DURATION:PT1H
X-Robots-Tag:noindex
X-PUBLISHED-TTL:PT1H
BEGIN:VTIMEZONE
TZID:America/Los_Angeles
BEGIN:DAYLIGHT
TZOFFSETFROM:-0800
TZOFFSETTO:-0700
TZNAME:PDT
DTSTART:20260308T100000
END:DAYLIGHT
BEGIN:STANDARD
TZOFFSETFROM:-0700
TZOFFSETTO:-0800
TZNAME:PST
DTSTART:20261101T090000
END:STANDARD
END:VTIMEZONE
BEGIN:VEVENT
DTSTART;TZID=America/Los_Angeles:20260404T100000
DTEND;TZID=America/Los_Angeles:20260404T120000
DTSTAMP:20260420T085018
CREATED:20260313T184255Z
LAST-MODIFIED:20260401T223859Z
UID:10022501-1775296800-1775304000@delmarplaza.com
SUMMARY:Del Mar Plaza Easter Egg Hunt & Spring Festival
DESCRIPTION:On Saturday\, April 4th from 10:00 am to 12:00 pm\, the Plaza will transform into a springtime celebration for the whole community. Kids can search the Plaza for more than 500 hidden Easter eggs\, meet the Easter Bunny\, and enjoy face painting\, live kids’ music\, and a photo booth to capture the moment. Many of our Plaza shops and restaurants will also be joining the celebration with a trick-or-treat style experience\, where little ones can stop by participating businesses for treats and surprises along the way. \nHow it works:\n\nHunt for more than 500 eggs hidden outside throughout the property\nVisit the participating restaurants and boutiques with the “EGG” decal in the window for extra treats!\nTake a photo and tag @officialdelmarplaza for a chance to win a prize!\n\nVisit the following participating restaurants and boutiques for extra treats:\n\nCamino Books\nCottage\nMonarch\nSolara Salon\nYoga Barre\nIl Fornaio\nCoco Rose\nGarys\nBeach City\nTamarindo\nValley Farm Market\nHigh Marea\nCompass\nPacifica\nSchool of Rock\nSkinSpirit\nParis en Rose\n\n\n\n\n\n\n\n\n\n\n\n\n\nKini Coffee\n\n\n\n\n\n\n\n\n\n\n\n\n\n\nSet against ocean views in the heart of Del Mar Village\, it’s a fun and festive way to celebrate the season with family\, friends\, and the community.
URL:https://delmarplaza.com/event/del-mar-plaza-easter-egg-hunt-spring-festival/
LOCATION:Del Mar Plaza\, 1555 Camino Del Mar\, Del Mar\, CA\, 92014\, United States
CATEGORIES:Community
ATTACH;FMTTYPE=image/png:https://delmarplaza.com/wp-content/uploads/2026/03/DMP-EASTER-POSTER-2.png
END:VEVENT
BEGIN:VEVENT
DTSTART;TZID=America/Los_Angeles:20260404T170000
DTEND;TZID=America/Los_Angeles:20260404T190000
DTSTAMP:20260420T085018
CREATED:20260313T184833Z
LAST-MODIFIED:20260313T185007Z
UID:10022503-1775322000-1775329200@delmarplaza.com
SUMMARY:Seaside Sessions -  The Juke$
DESCRIPTION:Kick back on our Ocean View Deck and soak in the sounds of The Juke$ — blending Swing & Blues music — from 5–7 PM. Whether you’re dining at one of our restaurants\, browsing the shops\, or simply taking in the Pacific views\, it’s the perfect way to wind down your week at Del Mar Plaza.
URL:https://delmarplaza.com/event/the-juke/
LOCATION:Ocean View Deck
CATEGORIES:Music
ATTACH;FMTTYPE=image/jpeg:https://delmarplaza.com/wp-content/uploads/2026/03/The-Juke.jpg
END:VEVENT
END:VCALENDAR